BEGIN:VCALENDAR
VERSION:2.0
PRODID:-//wp-events-plugin.com//7.2.3.1//EN
TZID:Australia/Sydney
X-WR-TIMEZONE:Australia/Sydney
BEGIN:VEVENT
UID:3035@unswoc.org
DTSTART;TZID=Australia/Sydney:20220724T140000
DTEND;TZID=Australia/Sydney:20220724T170000
DTSTAMP:20220722T230106Z
URL:https://unswoc.org/wordpress/events/social-sunday-bouldering-indoors/
SUMMARY:Social Sunday - bouldering indoors
DESCRIPTION:It's raining again\, yay!!! So instead of outdoors\, Sam\, Pat\
 , and I (Sammy) will be turning to the less damp confines of the house of 
 blocks for some bouldering.\n\nWe will be hanging out at Blochaus in Marri
 ckville from 2pm on Sunday. You'll find us in UNSWOC shirts mostly climbin
 g things\, but occasionally play a quick game of table tennis or drinking 
 a coffee.\n\n&nbsp\;\n\nNew to bouldering? Not a problem! All are welcome!
 \n\n&nbsp\;\n\nYou'll be in safe hands...\n\n\n\n&nbsp\;\n\nYou don't need
  to sign up to this event to join\, you can just show up to Blochaus. But 
 if you want to let us know you are coming so that we can look out for you\
 , feel free to sign up!\n\nNote. you will need to pay for entry yourself :
 )\n\n&nbsp\;\n\nYou will need:\n\n- some comfortable clothes to climb in\n
 \n- climbing shoes (can also be hired at Blochaus)\n\n-snacks and water\n\
 n&nbsp\;
CATEGORIES:Bouldering,Indoor Climbing,Social Event
END:VEVENT
BEGIN:VTIMEZONE
TZID:Australia/Sydney
X-LIC-LOCATION:Australia/Sydney
BEGIN:STANDARD
DTSTART:20220403T020000
TZOFFSETFROM:+1100
TZOFFSETTO:+1000
TZNAME:AEST
END:STANDARD
END:VTIMEZONE
END:VCALENDAR