BEGIN:VCALENDAR
VERSION:2.0
PRODID:-//wp-events-plugin.com//7.2.3.1//EN
TZID:Australia/Sydney
X-WR-TIMEZONE:Australia/Sydney
BEGIN:VEVENT
UID:3711@unswoc.org
DTSTART;TZID=Australia/Sydney:20251218T183000
DTEND;TZID=Australia/Sydney:20251218T223000
DTSTAMP:20251216T083233Z
URL:https://unswoc.org/wordpress/events/social-dinner-with-crafts-and-game
 s-the-flodge/
SUMMARY:Social Dinner with Crafts and Games @ The Flodge
DESCRIPTION:Hey UNSWOC!\n\nIt's time for another social dinner and games ni
 ght\, this time with arts and crafts! This will be a great chance to atten
 d a chill social event\, celebrate the end of term\, make some new friends
 \, and/or hang out with some old friends (and also maybe make some club t-
 shirt designs...). Bring some games\, art supplies\, or anything else you'
 re keen on\, and come hang out! We'll be at the Forest Lodge Hotel on Thur
 sday December 18th from 6:30pm.\n\nThis is a social event open to all club
  members as well as prospective club members. You do not need a membership
  to come along. Feel free to invite some friends to join too! We'd appreci
 ate if you could sign up below so we can get an idea of numbers for this e
 vent. Of course\, if you forget\, decide to come last minute\, or bring so
 me friends who don't sign up\, that's ok to! All are welcome :)\n\nIf you 
 have any questions\, feel free to contact me (Callum) or Amelia on messeng
 er. Keen to see you there!
ATTACH;FMTTYPE=image/jpeg:https://unswoc.org/wordpress/wp-content/uploads/
 2025/02/stock_custom-stock_2022-11-custom-stock_games-0228-edit-1.jpeg
CATEGORIES:Social Event
LOCATION:https://maps.app.goo.gl/caFYqRfFPPmjkFTp8
END:VEVENT
BEGIN:VTIMEZONE
TZID:Australia/Sydney
X-LIC-LOCATION:Australia/Sydney
BEGIN:DAYLIGHT
DTSTART:20251005T030000
TZOFFSETFROM:+1000
TZOFFSETTO:+1100
TZNAME:AEDT
END:DAYLIGHT
END:VTIMEZONE
END:VCALENDAR