BEGIN:VCALENDAR
VERSION:2.0
PRODID:-//wp-events-plugin.com//7.2.3.1//EN
TZID:Australia/Sydney
X-WR-TIMEZONE:Australia/Sydney
BEGIN:VEVENT
UID:2583@unswoc.org
DTSTART;TZID=Australia/Sydney:20191003T000000
DTEND;TZID=Australia/Sydney:20191008T000000
DTSTAMP:20191117T090556Z
URL:https://unswoc.org/wordpress/events/snowy-river-extreme-race/
SUMMARY:Snowy River extreme race
DESCRIPTION:Come paddle with us and the rest of the Aus White water scene o
 n the 6th oct!\n\n&nbsp\;\n\nwe will go down a bit before and stay a bit a
 fter total maybe 5 days
END:VEVENT
BEGIN:VTIMEZONE
TZID:Australia/Sydney
X-LIC-LOCATION:Australia/Sydney
BEGIN:STANDARD
DTSTART:20190407T020000
TZOFFSETFROM:+1100
TZOFFSETTO:+1000
TZNAME:AEST
END:STANDARD
BEGIN:DAYLIGHT
DTSTART:20191006T030000
TZOFFSETFROM:+1000
TZOFFSETTO:+1100
TZNAME:AEDT
END:DAYLIGHT
END:VTIMEZONE
END:VCALENDAR