BEGIN:VCALENDAR
VERSION:2.0
PRODID:-//wp-events-plugin.com//7.2.3.1//EN
TZID:Australia/Sydney
X-WR-TIMEZONE:Australia/Sydney
BEGIN:VEVENT
UID:2451@unswoc.org
DTSTART;TZID=Australia/Sydney:20190906T130000
DTEND;TZID=Australia/Sydney:20190908T130000
DTSTAMP:20190809T042226Z
URL:https://unswoc.org/wordpress/events/snowshoeing/
SUMMARY:Snowshoeing
DESCRIPTION:Hello there!\n\nCome join us for a beginner-friendly snowshoein
 g weekend! No prior experience needed\, just a general level of fitness an
 d enthusiasm for light suffering :) What is snowshoeing you ask? Well\, it
 's attaching big flat things to our feet and go hiking on the snow.\n\nThe
  Plan:\n\nFriday the 6th we will carpool down from Sydney all packed and r
 eady to go and meet in Jindabyne by 1pm. In Jindabyne\, we will rent snows
 hoes ($69) and winter bags ($55) if you need one from Wilderness Sports. W
 e can also stop by the supermarket and buy food for the following days.\n\
 nFrom Jindabyne\, we will drive up to Guthega Power station to park and em
 bark our hike for the first day\, stopping to camp at Horsecamp hut (3.83k
 m)\n\nSaturday the 7th we will walk to Schlink Hut for lunch (7.35km) and 
 then to Disappointment Spur hut to camp (4.31km).\n\nSunday the 8th we wil
 l have a lazy morning and return to the cars by lunchtime so you aren't to
 o tired for the long drive home (or to keep your driver company)\n\nWhat t
 o pack:\n\n 	A hiking pack (that will fit everything on this list) 50L-65L
 *\n 	A warm jacket (Macpac has some sweeeet $99 down jackets at the moment
 ...)\n 	Thermals\n 	fleece/wool jumper\n 	Long pants - ski pants\, hiking 
 pants\, rain pants or softshell pants are great - no cotton please!!!\n 	t
 -shirt (just in case it's balmy)\n 	Rain jacket\n 	underwear **\n 	Woolen/
 Synthetic socks - no cotton again please!!!\n 	neck buff/bandana **\n 	Sno
 w/hiking boots (Aldi still has some cheap ones...)\n 	Gloves/mitts **\n 	H
 at\n 	Sunscreen\n 	Sunnies\n 	Space blanket - this is compulsory for every
 one to have one! They are only $5 from the gear cupboard.\n 	Walking poles
 /ski poles**/***\n 	Warm sleeping bag*/***\n 	Sleeping bag liner **\n 	Ten
 t *\n 	Insulated Sleeping Mat or an EVA foam roll and sleeping mat will do
  the job. *\n 	2L of water\n 	Pot and stove**\n 	utensils\n 	Toiletries\n 
 	toilet paper\n 	2 Dinners\n 	2 Breakfasts\n 	3 Lunches\n 	Snowshoes***\n 
 	Head torch + spare batteries\n 	hothands **\n 	Alcohol**\n 	First aid kit
  (if you have one)\n 	Fuel monies for your driver\n\n*means that you can r
 ent it from UNSWOC for free (first in best dressed)\n\n**means that it is 
 optional\n\n***means that it can be rented from wilderness sports for a fe
 e\n\nNOTE: Although we will be staying at huts there is no guarantee that 
 we will be the only ones there or that there will be space for everyone. T
 his means that we must all be self-sufficient with tents\, sleeping bags a
 nd sleeping mats.\n\nPlease leave a comment on your experience level\, car
  status\, suburb you live in (for easy car pooling) favourite snow cone fl
 avour and what gear you need when you sign up. People with cars get priori
 ty and then people who leave comments\, and lastly\, those with no comment
  will be left behind... A Facebook chat will be set up once numbers are co
 nfirmed to organise carpooling.\n\nIf you have any questions please messag
 e Nick Fabian\, Aidan Cameron or myself (Alexandra Repetto)\n\n&nbsp\;\n\n
 &nbsp\;\n\n&nbsp\;
ATTACH;FMTTYPE=image/jpeg:https://unswoc.org/wordpress/wp-content/uploads/
 2019/08/snowshoeing1.jpg
CATEGORIES:Backcountry
END:VEVENT
BEGIN:VTIMEZONE
TZID:Australia/Sydney
X-LIC-LOCATION:Australia/Sydney
BEGIN:STANDARD
DTSTART:20190407T020000
TZOFFSETFROM:+1100
TZOFFSETTO:+1000
TZNAME:AEST
END:STANDARD
END:VTIMEZONE
END:VCALENDAR