BEGIN:VCALENDAR
VERSION:2.0
PRODID:-//wp-events-plugin.com//7.2.3.1//EN
TZID:Australia/Sydney
X-WR-TIMEZONE:Australia/Sydney
BEGIN:VEVENT
UID:493@unswoc.org
DTSTART:20140627T063000Z
DTEND:20140630T120000Z
DTSTAMP:20140623T150929Z
URL:https://unswoc.org/wordpress/events/snowmageedon-backcountry-touring/
SUMMARY:Snowmagedon Backcountry Touring
DESCRIPTION:Following the 50 cm dump and expecting 50 more cms a group from
  UNSWOC will be laying down some turns in the freshies.\n\nDetails and pl
 anning on the UNSWOC Snow facebook page.\n\nOr call me on 0432 866 307 for
  details.
CATEGORIES:Backcountry
END:VEVENT
END:VCALENDAR