BEGIN:VCALENDAR
VERSION:2.0
PRODID:-//wp-events-plugin.com//7.2.3.1//EN
TZID:Australia/Sydney
X-WR-TIMEZONE:Australia/Sydney
BEGIN:VEVENT
UID:2015@unswoc.org
DTSTART:20160506T190000Z
DTEND:20160507T070000Z
DTSTAMP:20160506T205527Z
URL:https://unswoc.org/wordpress/events/snorin-time-crack-whorin/
SUMMARY:No More Snorin'\, Time for Crack Whorin'
DESCRIPTION:Crack whorin' at Piddo on Saturday
END:VEVENT
END:VCALENDAR