BEGIN:VCALENDAR
VERSION:2.0
PRODID:-//wp-events-plugin.com//7.2.3.1//EN
TZID:Australia/Sydney
X-WR-TIMEZONE:Australia/Sydney
BEGIN:VEVENT
UID:2030@unswoc.org
DTSTART:20160812T070000Z
DTEND:20160814T120000Z
DTSTAMP:20160802T084332Z
URL:https://unswoc.org/wordpress/events/ski-bus-weekend-away/
SUMMARY:Ski Bus Weekend Away (Trip full!!!)
DESCRIPTION:Ladies and Gents\, it's time again for the SKI BUS WEEKEND AWAY
 !\n\n\n\nLast year was a great success so we'll be doing it again. This we
 ekend is great for learning how to ski/board\, polish up your skills\, get
  into the backcountry\, or just have a great weekend with your mates.\n\n\
 n\nNote.. This is ACTUALLY Sam skiing in Australia.\n\nWe have organised a
  bus\, food and accommodation deal to get everyone there\, keep you warm a
 nd enable maximum shreddage!\nWHEN?\nWe will leave UNSW Friday the 12th of
  August at 6:00 pm to ski on the 13th and 14th. We will drop you back late
  Sunday night.\nWHERE?\nWe will leave from gate 14 of UNSW\, next to the 
 physics lawn and will drop you back there. We'll drive down\, have a few b
 eers on the bus\, dinner at Maccas\, and then arrive in Jindy. We are stay
 ing in East Jindy at the Snowy Valley Resort\, which has a pool\, spa\, an
 d a hotel bar which will be awesome with 60 sexy UNSWOCer's occupying it.\
 n\nLast year we went to Perisher so this year to shake it up we're going t
 o Thredbo where it is cheaper\, we don't have to catch the tube\, we get l
 unch deals\, and we have access to OzSnow's gear hire center which will le
 t you change up your gear during the day if necessary (unlike last year).\
 nWHO?\nTo join this trip\, you must be a member of UNSWOC. A few members o
 f some of our sister clubs from other unis  (SURMC\, UTSOAC\, SUBW) and a
 t UNSW (UWC\, WSC and WSWB) might be joining us too.\nHOW MUCH DO I NEED T
 O PAY?\nAbout $245 - $500. Here's how it goes:\n\nAccommodation\, dinner\
 , lunch snacks\, breakfasts and the bus? $245!\nAdd Thredbo Lift Pass: $19
 9\nAdd Gear Hire: $40 Ski Gear\, $50 Board Gear\nAdd 2 x 2 hour lessons: $
 20\nNow?\nYou need to pay a $45 deposit to book a space (bottom of the pag
 e).\n\nThen you'll need to pay the rest of the accomodation cost\, $200. Y
 ou'll have to pay this by the end of the 24th of June (this coming Friday
 ). Details on how to pay:\n\nMake the description your NAME and your name 
 only. No need to add in "ski" or "bus" or "snow".\n$200\nUNSWOC\nBSB: 0623
 03\nAccount: 10886103\n\nIf you forget to put your name in the description
  please email alie.repetto@gmail.com with a screenshot of the transaction
  details.\nOn the trip?\nOnly the basic $245 is sorted out through us\, ev
 erything else (lift passes\, ski hire\, and lessons) will be done on the b
 us IN CASH\, so BRING CASH!!!\nOTHER DEETS\nWhen you book below please ent
 er your details so that we are able to contact you on the weekend if need 
 be\, and please make sure that your account details are up to date\, in p
 articular your emergency contact who should NOT be someone who is with you
  on the weekend.\n\nHelmets will be require on this trip\, so if you don't
  own a ski helmet then you will be able to hire one.\n\nFinally\, please e
 nter what type of room you would like to reside in as far as bed times go.
 \n\nSee you on the slopes!\n\n&nbsp\;
CATEGORIES:Backcountry
END:VEVENT
END:VCALENDAR