BEGIN:VCALENDAR
VERSION:2.0
PRODID:-//wp-events-plugin.com//7.2.3.1//EN
TZID:Australia/Sydney
X-WR-TIMEZONE:Australia/Sydney
BEGIN:VEVENT
UID:2151@unswoc.org
DTSTART:20170810T130000Z
DTEND:20170812T130000Z
DTSTAMP:20170502T052310Z
URL:https://unswoc.org/wordpress/events/ski-bus-weekend-3-0/
SUMMARY:Ski Bus Weekend 3.0!!!
DESCRIPTION:Ladies and Gents\, it’s time again for the SKI BUS WEEKEND AW
 AY!\n\n\n\nLast year was a great success so we’ll be doing it again. Thi
 s weekend is great for learning how to ski/board\, polish up your skills\,
  get into the backcountry\, or just have a great weekend with your mates.\
 n\n\n\nNote.. This is ACTUALLY Sam skiing in Australia.\n\nWe have organis
 ed a bus\, food and accommodation deal to get everyone there\, keep you wa
 rm and enable maximum shreddage!\nWHEN?\nWe will leave UNSW Friday the 11t
 h of August at 5:00 pm to ski on the 12th and 13th. We will drop you back 
 late Sunday night.\nWHERE?\nWe will leave from gate 14 of UNSW\, next to 
 the physics lawn and will drop you back there. We’ll drive down\, have a
  few beers on the bus\, dinner at Maccas\, and then arrive in Jindy. We ar
 e staying in East Jindy at the Snowy Valley Resort\, which has a pool\, sp
 a\, and a hotel bar which will be awesome with 60 sexy UNSWOCer’s occupy
 ing it.\n\nLast year we went to Threadbo\, so this year to shake it up we
 ’re going to Perisher.\nWHO?\nTo join this trip\, you must be a member o
 f UNSWOC. A few members of some of our sister clubs from other unis  (SUR
 MC\, UTSOAC\, SUBW) and at UNSW (UWC\, WSC and WSWB) might be joining us t
 oo.\nHOW MUCH DO I NEED TO PAY?\nAbout $250 – $520. Here’s how it goe
 s:\n\nAccommodation\, dinner\, lunch\, snacks\, breakfasts and the bus? $2
 50!\nNow you have 4 options:\n- Option A:\nI need everything (gear\, ski p
 ass) -&gt\; Add $270 + $10 if you want a snowboard instead\n\n- Option B:\
 nI only need a lift and tube pass -&gt\; Add $225\n\n- Option C:\nI only n
 eed Gear Hire -&gt\; Add $65 Ski Gear\, $75 Board Gear\n\n- Option D:\nI h
 ave a season pass and my own gear -&gt\; Add $0\n\nExtras:\nAdd 2 x 2 hour
  lessons -&gt\; Add $20\nNow?\nYou need to pay a $50 deposit to book a spa
 ce (bottom of the page).\n\nThen you’ll need to pay the rest of the acco
 mmodation cost\, ($200) by the 31st of May. Details on how to pay:\n\nMake
  the description your NAME and your name only. No need to add in “ski”
  or “bus” or “snow”.\n$200\nUNSWOC\nBSB: 062303\nAccount: 10886103
 \n\nIf you forget to put your name in the description please email preside
 nt@unswoc.org with a screenshot of the transaction details.\nOn the trip?
 \nOnly the basic $245 (accommodation\, food and transport) is sorted out t
 hrough us\, everything else (lift passes\, ski hire\, and lessons) will be
  done on the bus IN CASH\, so BRING CASH!!!\nOTHER DEETS\nWhen you book be
 low please enter your details so that we are able to contact you on the we
 ekend if need be\, and please make sure that your account details are up 
 to date\, in particular your emergency contact who should NOT be someone w
 ho is with you on the weekend.\n\nHelmets will be required on this trip\, 
 so if you don’t own a ski helmet then you will be able to hire one.\n\nF
 inally\, please enter what type of room you would like to reside in as far
  as bed times go.\n\nSee you on the slopes!
CATEGORIES:Backcountry
END:VEVENT
END:VCALENDAR