BEGIN:VCALENDAR
VERSION:2.0
PRODID:-//wp-events-plugin.com//7.2.3.1//EN
TZID:Australia/Sydney
X-WR-TIMEZONE:Australia/Sydney
BEGIN:VEVENT
UID:3027@unswoc.org
DTSTART;TZID=Australia/Sydney:20220618T093000
DTEND;TZID=Australia/Sydney:20220618T160000
DTSTAMP:20220616T014947Z
URL:https://unswoc.org/wordpress/events/shipley-sport-climbing/
SUMMARY:Shipley Sport Climbing
DESCRIPTION:Hi everyone! The Shipley trip is now official\, so get your gea
 r ready because its going to be an action packed day!\n\nThis trip will ha
 ve a maxim participant amount of 9\, so please sign up asap!\n\nImportant 
 Note: Please indicate weather you need any gear in the notes section when 
 signing up.\n\nWe will work out carpooling in the group chat that you will
  be added to when approved.\n\n&nbsp\;\n\nTrip Key Details:\nDate: Saturda
 y - 18/06/22\nMeeting Location:\nCentennial Glen Carpark\,\nCentennial Gle
 n Rd\, Blackheath NSW 2785\nMeeting Time: 9:30am\nDeparture time\, Approx.
  4pm\nYou must to APPROVED for this trip\, please do not come if you are n
 ot.\n&nbsp\;\n\nGear Required\,\n\n 	Water - At least 2L\n 	Food: lunch\, 
 snacks.\n 	Helmet*\n 	Headtorch (in case you have to walk out in the dark)
 \n 	Harness*\n 	Belay device and a carabiner*\n 	Climbing shoes* (optional
  but highly recommended)\n 	Sunscreen\n\nItems with an asterisk (*) can be
  borrowed from the gear cupboard.\n\n&nbsp\;\n\nTo ensure you have actuall
 y read the post\, please tell us your favourite Disney movie =)\n\n&nbsp\;
 \n\nHappy climbing! - Myself (Oliver)\, Scott and Gabe.
CATEGORIES:Climbing,Outdoor Climbing
END:VEVENT
BEGIN:VTIMEZONE
TZID:Australia/Sydney
X-LIC-LOCATION:Australia/Sydney
BEGIN:STANDARD
DTSTART:20220403T020000
TZOFFSETFROM:+1100
TZOFFSETTO:+1000
TZNAME:AEST
END:STANDARD
END:VTIMEZONE
END:VCALENDAR