BEGIN:VCALENDAR
VERSION:2.0
PRODID:-//wp-events-plugin.com//7.2.3.1//EN
TZID:Australia/Sydney
X-WR-TIMEZONE:Australia/Sydney
BEGIN:VEVENT
UID:2147@unswoc.org
DTSTART;VALUE=DATE:20170428
DTEND;VALUE=DATE:20170429
DTSTAMP:20170426T084349Z
URL:https://unswoc.org/wordpress/events/shipley-icecream-factory/
SUMMARY:Shipley Icecream Factory
DESCRIPTION:Hey Chumps!\n\nNikki and myself will be running a beginner/inte
 rmediate climbing trip this Friday to Shipley Upper for some super sportcl
 imbing. We will board the train 6:21am train from platform 7 at Central St
 ation\, and head to Blackheath for some coffee then race down to the crag 
 for some sending! Please get to the station early as we wont be waiting fo
 r slow poaches.\n\nThere are 4 spots open to intermediate climbers\, and 2
  spots open to beginners. Comment your climbing experience when you sign u
 p. No comment\, no spot for you.\n\nWhat to bring:\n- Warm clothes (seriou
 sly it is cold)\n- water\n- lunch and snacks\n- headtorch\n- daypack\n- Cl
 imbing gear\n- HELMET\n- Opal card\n- Money for icecream... :)
CATEGORIES:Outdoor Climbing
END:VEVENT
END:VCALENDAR