BEGIN:VCALENDAR
VERSION:2.0
PRODID:-//wp-events-plugin.com//7.2.3.1//EN
TZID:Australia/Sydney
X-WR-TIMEZONE:Australia/Sydney
BEGIN:VEVENT
UID:2890@unswoc.org
DTSTART;TZID=Australia/Sydney:20210409T173000
DTEND;TZID=Australia/Sydney:20210409T210000
DTSTAMP:20210405T232924Z
URL:https://unswoc.org/wordpress/events/she-can-they-can-climb/
SUMMARY:She can\, They can climb!
DESCRIPTION:Welcome to UNSWOC’s periodic she can\, they can\, event! Come
  to the ledge on Friday night for a woman and queer inclusive climbing nig
 ht. Total beginners welcome!\n\nThis is a friendly and supportive way to s
 tart getting on the walls or a fab way to increase you psych!\n\nEquipment
 :\n- Harnesses are free and provided if you don’t have your own\n- You c
 an rent shoes from the gym\, climb in your trainers or bring your own clim
 bing shoes.\n\nOther than that you will need water and comfy\, flexible cl
 othes.\n\nCost:\n\n- Free!!\n\nWe will do inductions for anyone who hasn
 ’t climbed before at 6 and 6:30. You don't need to know anyone or organi
 se anyone to climb with. We will do this at the inductions if you come alo
 ne.\nThere will be some form of food provided on the night and people will
  often go to the Flodge pub for beers after climbing.\n&nbsp\;\n\nIf you h
 ave any questions shoot me (Mira Bug) a message on Facebook.\n\n&nbsp\;\n\
 nWho is welcome: Girls\, women\, non binary people\, intersex\, trans and 
 the like. Basically anyone but cis boys and men 😆. The gym will still b
 e open to it's regulars not coming to this event.\n\n&nbsp\;\n\nSee you th
 ere!!
ATTACH;FMTTYPE=image/jpeg:https://unswoc.org/wordpress/wp-content/uploads/
 2021/01/C2138458-2FC9-42E4-87A2-0C6C8737C794-miranda-jordan.jpeg
END:VEVENT
BEGIN:VTIMEZONE
TZID:Australia/Sydney
X-LIC-LOCATION:Australia/Sydney
BEGIN:STANDARD
DTSTART:20210404T020000
TZOFFSETFROM:+1100
TZOFFSETTO:+1000
TZNAME:AEST
END:STANDARD
END:VTIMEZONE
END:VCALENDAR