BEGIN:VCALENDAR
VERSION:2.0
PRODID:-//wp-events-plugin.com//7.2.3.1//EN
TZID:Australia/Sydney
X-WR-TIMEZONE:Australia/Sydney
BEGIN:VEVENT
UID:3648@unswoc.org
DTSTART;TZID=Australia/Sydney;VALUE=DATE:20250914
DTEND;TZID=Australia/Sydney;VALUE=DATE:20250915
DTSTAMP:20250907T220108Z
URL:https://unswoc.org/wordpress/events/shandy-beginner-intermediate-multi
 pitch-sport-climb/
SUMMARY:Shandy Beginner/Intermediate Multipitch Sport Climb
DESCRIPTION:Featured Image: Sophia at the top of pitch 1 of Shandy\n\n&nbs
 p\;\n\nHey everyone!\n\nThis Sunday Jason and I will be running a beginner
  multipitch sport climbing trip to Shandy at Boar's Head near Katoomba.\n\
 nShandy is a 4 pitch\, grade 14\, sport climb in the Rhum Dhu area of Narr
 ow Neck crag. We will only be climbing the first 2 pitches\, which you can
  read about on the crag here.\n\n&nbsp\;\n\nPlease note\, whilst this is a
  beginner multipitch trip\, it is an intermediate sport climbing trip and 
 although you do not need multipitch experience\, you will need to be compe
 tent in some sport climbing skills. Make sure to read all the information 
 on this page and answer all questions when signing up. \n\n&nbsp\;\n\nTo 
 come on this trip you need to be proficient in the following skills:\n\n 	
 Basic abseiling\n 	Lead belaying\n 	Cleaning routes and anchors\n\n&nbsp\;
 \n\nYou will need the following gear:\n\n 	*Climbing harness\n 	*Climbing 
 helmet\n 	*Belay device + locking carabiner (your belay device must be sui
 table for a top belay eg. Gri-Gri\, *ATC Guide. IF YOU BRING AN ATC IT MUS
 T HAVE GUIDE MODE AND YOU WILL NEED AN ADDITIONAL CARABINER)\n 	*Safety sl
 ing + 2 locking carabiners\n 	*Climbing shoes (COMFORTABLE – i.e. not yo
 ur aggressive indoor bouldering shoes\, you’ll be standing in them all d
 ay)\n 	Water\, lunch\, and snacks\n 	Headtorch\n 	A small backpack (assume
  you’ll need to climb with all your belongings\, including your approach
  shoes)\n 	Wind breaker or jumper\n 	Sunscreen\n\nItems marked with an ast
 erisk (*) can be borrowed from the gear cupboard.\n\n&nbsp\;\n\nIf you wis
 h to come on this trip\, let us know: your experience with climbing\, mult
 ipitch\, and the required skills listed above\; what kind of belay device 
 you will be bringing\; if you have a car\, how many spots you have\, and w
 here you will be leaving from\; your Facebook profile\; and your least fav
 ourite fruit.\n\n&nbsp\;\n\nDue to the nature of this trip\, we will only 
 be able to take 4 participants.\n\nBookings will open at 6pm tonight to g
 ive everyone a chance to see this post.\n\nEnsure you have read all inform
 ation and meet all requirements before signing up to the trip.\n\nAs this 
 is a beginner multipitch trip\, preference may be given to those with less
  multipitch experience. A more advanced multipitch trip will be running la
 ter in the term.\n\n&nbsp\;\n\nIf you have any questions\, feel free to co
 ntact Jason or myself.\n\n&nbsp\;
ATTACH;FMTTYPE=image/jpeg:https://unswoc.org/wordpress/wp-content/uploads/
 2025/09/IMG_6938-scaled.jpeg
CATEGORIES:Abseiling,Climbing,Outdoor Climbing
LOCATION:https://www.google.com/maps/place/Boars+Head/@-33.7219265,150.2837
 791,17z/data=!4m14!1m7!3m6!1s0x6b126c127741f4f5:0xedf79f83ab254720!2sCahil
 l's+Lookout!8m2!3d-33.7209096!4d150.2842409!16s%2Fg%2F11bbw_s_dq!3m5!1s0x6
 b126d8c0fbf8115:0x69fad82494715dfa!8m2!3d-33.7229259!4d150.2852299!16s%2Fg
 %2F11skv8pg51?entry=ttu&g_ep=EgoyMDI1MDkwMy4wIKXMDSoASAFQAw%3D%3D
END:VEVENT
BEGIN:VTIMEZONE
TZID:Australia/Sydney
X-LIC-LOCATION:Australia/Sydney
BEGIN:STANDARD
DTSTART:20250406T020000
TZOFFSETFROM:+1100
TZOFFSETTO:+1000
TZNAME:AEST
END:STANDARD
END:VTIMEZONE
END:VCALENDAR