BEGIN:VCALENDAR
VERSION:2.0
PRODID:-//wp-events-plugin.com//7.2.3.1//EN
TZID:Australia/Sydney
X-WR-TIMEZONE:Australia/Sydney
BEGIN:VEVENT
UID:2626@unswoc.org
DTSTART;TZID=Australia/Sydney;VALUE=DATE:20200315
DTEND;TZID=Australia/Sydney;VALUE=DATE:20200316
DTSTAMP:20200310T090150Z
URL:https://unswoc.org/wordpress/events/serendipityonsunday/
SUMMARY:Sunday 15th: Serendipity (Intermediate)
DESCRIPTION:Make sure you read the entire description and bring everything 
 on the packing list. If you turn up on the day without all the required ge
 ar we’ll leave you at the car/campsite (this has happened).\n\nSerendipi
 ty canyon is a short and sweet canyon with multiple abseils. Participants 
 will need to be confident abseilers and comfortable with cold swims. This 
 is an intermediate canyon and not suitable for first-time canyoners\, espe
 cially with the recent bush fires.\n\nMore info about the canyon here: htt
 ps://ozultimate.com/canyoning/track_notes/why_dont_we_do_it_in_the_road.ht
 m\n\nWe will form a group chat with all involved to organise cars and tran
 sport.\n\nGEAR: (* = can borrow from UNSWOC on gear night)\n\n\n 	Canyon
 ing gear:\n– Emergency blanket (You must carry one on every club canyoni
 ng trip. You must buy one from the gear cupboard for $5 cash)\n– Harness
 *\n– Helmet*\n– 3x locking carabiner*\n– 1x ATC*\n– 1x 120cm safet
 y sling*\n– Drybag*\n– Backpack that can fit ALL your gear in and that
  can get wet.\n 	Clothing:\n– Wetsuit*\n– Enclosed shoes with good gri
 p\n– Wool socks\n– Boardshorts to wear on top of wetsuit (compulsory t
 o protect the club wetsuits)\n– Thermals to wear under your wetsuit (opt
 ional\, but helpful)\n 	Food:\n– 1.5L of water in bottles.\n– Substant
 ial lunch (pack it in a waterproof container\, and make sure it’s vaguel
 y crush-proof)\n– Snacks (chocolate or something nice to share!)\n 	Misc
 ellaneous:\n– Any personal medicine (asthma puffer\, Epipen etc)\n– A 
 pair of thongs/flipflops to leave in the car (since your shoes will get we
 t)\n– Phone or camera for photos (optional\, and only if you’re prepar
 ed for it to get wet if your drybag leaks! Bring a ziploc bag or two to pr
 otect it)\n\nIf you have any questions\, message Nick Fabian on Facebook. 
 Write down YOUR ABSEILING/OUTDOOR EXPERIENCE in the comment when signing 
 up\, YOUR FAVOURITE CANYONING SNACK (so we know you’ve read this far)\
 , and whether you have A CAR (so we can give you preference).\n\nThank yo
 u to Stephen Roche for this packing list.
ATTACH;FMTTYPE=image/jpeg:https://unswoc.org/wordpress/wp-content/uploads/
 2020/03/dsc01452_39879443974_o-1.jpg
CATEGORIES:Canyoning
END:VEVENT
BEGIN:VTIMEZONE
TZID:Australia/Sydney
X-LIC-LOCATION:Australia/Sydney
BEGIN:DAYLIGHT
DTSTART:20191006T030000
TZOFFSETFROM:+1000
TZOFFSETTO:+1100
TZNAME:AEDT
END:DAYLIGHT
END:VTIMEZONE
END:VCALENDAR