BEGIN:VCALENDAR
VERSION:2.0
PRODID:-//wp-events-plugin.com//7.2.3.1//EN
TZID:Australia/Sydney
X-WR-TIMEZONE:Australia/Sydney
BEGIN:VEVENT
UID:2154@unswoc.org
DTSTART:20170512T073000Z
DTEND:20170512T093000Z
DTSTAMP:20170509T091311Z
URL:https://unswoc.org/wordpress/events/self-rescue-workshop/
SUMMARY:Self-Rescue Workshop
DESCRIPTION:Sup Team\,\n\nWe'll be running a self-rescue workshop where we 
 work together using our own experiences to learn and teach each other diff
 erent techniques and practices in different scenarios.\n\nThis is an inter
 mediate workshop and you should know how to lead belay\, know the basics o
 f anchors and preferably have done a multipitch before. Everyone is welcom
 e to join\, but please let me know your experience first if we have not me
 t.\n\nWhere: The ledge climbing centre. (Discounted $5 entry applies)\n\nW
 hen: Friday 12th May\, 6:30-8:30 pm (depending how keen people are). We wi
 ll most likely be heading to the pub after for food and a beer :)\n\nWhat:
  So we'll be training for a few different scenarios\, that you may typical
 ly come across when climbing. The main goal from this session is to provid
 e practical training and to use the group experiences to teach each other 
 - not lecture style.\n\n--------------------------------------------------
 --------------------------------------------------------------------------
 -----------------------------\n\n1) A seconder taking a traverse swing \n\
 nSkills: prussik up to the next bolt with a variety of different materials
  (using prussik loops\, or extendables)\n\n\n2)A seconder has fallen/injur
 ed\n\n\nSkills: Lower the seconder in guide mode safely (Using a backup!)\
 n\nSkills: Escape the belay and transition to rescue\n\n3)A leader has fal
 len (onto a ledge and cannot be lowered safely) \n\nSkills: Escape the bel
 ay and get help\n\n&nbsp\;\n\nIf you have any questions please contact me.
  We will be using a facebook event to organise this\, so I can give you ma
 terial to watch and prepare.\n\nCheers\,\n\nEamonn\n\n&nbsp\;
CATEGORIES:Training
END:VEVENT
END:VCALENDAR