BEGIN:VCALENDAR
VERSION:2.0
PRODID:-//wp-events-plugin.com//7.2.3.1//EN
TZID:Australia/Sydney
X-WR-TIMEZONE:Australia/Sydney
BEGIN:VEVENT
UID:2219@unswoc.org
DTSTART:20180317T210000Z
DTEND:20180317T210000Z
DTSTAMP:20180308T043839Z
URL:https://unswoc.org/wordpress/events/searching-dragons-water-dragon-can
 yon-boree-log-trip-sunday/
SUMMARY:Searching for dragons in water dragon canyon (Boree Log Trip - Sund
 ay)
DESCRIPTION:---you must be approved for Boree log to attend this trip---\n\
 nHey Boree Loggers!\n\nRonald and me are leading a trip on Sunday through 
 Water dragon canyon\, a constricted\, pretty canyon in the Wollangambe wil
 derness!\n\n\n\nSick right?! More info and pics can be found here http://o
 zultimate.com/canyoning/track_notes/water_dragon.htm\n\nThis is a whole da
 y adventure where we scramble\, swim and do a few abseils.\n\nSo you need 
 to be fit and able to swim as there are some long swims at the end of the 
 day in the Wollangambe! Its alright if you have not abseiled before\, we c
 an show you the ropes. Please fill out the form when you sign up and comme
 nt with your experience (if you don't have rope skills\, just comment what
  other outdoor activities you have done) and your favorite outdoors snack 
 (preferably also bring it to the canyon :D )!\n\nWhat you need:\n\n 	harne
 ss*\n 	helmet*\n 	safety + biner*\n 	atc + biner*\n 	backpack that can get
  wet\n 	wetsuits*\n 	headtorch\n 	drybag (this is important for spare clot
 hes and your food! I strongly recommend to buy one\, e.g. at anaconda http
 s://www.anacondastores.com/camping-hiking/packs-bags/dry-bags-storage/sea-
 to-summit-dry-sack/p/BP90028599001\, these come in handy on almost any out
 door trip)\n 	runners that may get trashed\n 	thermals and woolen or synth
 etic socks (dont wear ANY cotton\, you will be miserably cold!)\n 	lunch a
 nd snacks!\n 	at least 2l of water\n 	adventure spirit and heaps of good m
 ood!\n\n*you can get this from the club on sunday morning\n\nGet keen and 
 see ya there!\n\nCheers\,\n\nSteffi and Ronald
CATEGORIES:Boree Log,Canyoning
END:VEVENT
END:VCALENDAR