BEGIN:VCALENDAR
VERSION:2.0
PRODID:-//wp-events-plugin.com//7.2.3.1//EN
TZID:Australia/Sydney
X-WR-TIMEZONE:Australia/Sydney
BEGIN:VEVENT
UID:2349@unswoc.org
DTSTART;VALUE=DATE:20181205
DTEND;VALUE=DATE:20181206
DTSTAMP:20181204T022327Z
URL:https://unswoc.org/wordpress/events/sea-kayaking-bundeena-wattamolla/
SUMMARY:Sea Kayaking - Bundeena to Wattamolla
DESCRIPTION:Hi there\n\nI'll be running a Sea Kayak trip with Aidan on Wedn
 esday. The plan is to paddle from Bundeena\, out the Port Hacking River\, 
 past wedding cake rock and into Wattamolla. The total paddle is 12km with 
 most of it in relatively open ocean. If you get sea sick\, or even motion 
 sick please take sea sickness tablets before the trip and bring some with 
 you!\n\nThe plan is the meet at Bundeena at 8am\, we will be driving past 
 Sutherland Station at 7:30am and leaving in the morning from Oatley Statio
 n at 7am. You are welcome to join us at any of these places\, please inclu
 de where you are meeting us in the comments box.\n\nYou must have some for
 m of kayak experience to attend this trip\, however it does not necessaril
 y need to be sea kayak experience. Please also include your previous kayak
  experience in the comments box.\n\nIf you have a car with roof racks\, le
 t us know because that could be helpful in the car shuttle!\n\nYou will ne
 ed:\n\n 	Hat\n 	Sunscreen\n 	Sun protective clothing\n 	Dry clothes for af
 ter\n 	Shoes that can get wet\n 	Food\n 	2L water minimum.\n 	Dry bag for 
 you phone and valuables.\n\nSign ups for the trip end by 9pm Tuesday the 4
 th\n\n***YOU MUST BE A COMPETENT SWIMMER TO ATTEND THIS TRIP***
ATTACH;FMTTYPE=image/jpeg:https://unswoc.org/wordpress/wp-content/uploads/
 2018/12/FB_IMG_1543835928851.jpg
CATEGORIES:Sea Kayaking
END:VEVENT
END:VCALENDAR