BEGIN:VCALENDAR
VERSION:2.0
PRODID:-//wp-events-plugin.com//7.2.3.1//EN
TZID:Australia/Sydney
X-WR-TIMEZONE:Australia/Sydney
BEGIN:VEVENT
UID:3257@unswoc.org
DTSTART;TZID=Australia/Sydney:20230602T174500
DTEND;TZID=Australia/Sydney:20230602T213000
DTSTAMP:20230526T130951Z
URL:https://unswoc.org/wordpress/events/save-the-date-pubgaine-2023/
SUMMARY:PUBGAINE 2023
DESCRIPTION:Start is at UNSW Gear Cupboard (Sam Cracknell Pavilion)\n\n Reg
 o opens @ 5.45pm\n\nBriefing @ 6.15pm\n\nMass start @ 6:30pm.\n\nEnd is at
  the Victoria Park Totem Pole @ 9:30pm. 10 points per team member per minu
 te will be deducted for being late.\n\nA PUBGAINE! is a portmanteau of ‘
 Pub-crawl’ and ‘Rogaine’. In the former\, good times are had. In the
  latter teams of 3-5 race around to collect Control Points with the aid of
  map and compass. Combining these activities makes for a ludicrously good 
 time!\n\nThe rules are simple. You must be 18+ and carry ID to participate
 . Each team is given a map with a list of pubs marked on it. Each pub is w
 orth a designated number of point based roughly on the generosity of Jenny
 . You are allowed to move by foot\, or on public transport\, but no cars\,
  taxi’s or bicycles. Team must remain together at all times\, splitting 
 up to get to more pubs is a no-no.\n\nTeams are 3-5 people.\n\nNo Team. No
  worries. Make sure to turn up at 5.45pm and we'll get you sorted :)\nMake
  sure your phone is charged for the event\, photographic evidence will be 
 needed to earn the points.\n\nBonus points will be awarded for:\n\n60 poin
 ts – for each team with a new member who joined the club less than 6 mon
 ths ago. 60 points for the first member and 30 points for each additional 
 person.\n50 points – for each team member wearing thermal leggings and s
 horts on top.\n20 points – for each team member wearing a head torch.\n1
 0 points – for each team member who can present a space blanket at the f
 inish line (used or unused).\nDouble points for each pub where every team 
 member drinks a beverage (alcoholic or non-alcoholic). Receipts must be pr
 ovided digitally.\n\nNew for this year: MISSIONS: points per mission TBC\n
 \nThe golfing trio - visiting all three Holey Moleys\nThe history quartet 
 - correctly answering the 'year established questions'\nThe animal quintet
  - bat\, dog\, horse\, unicorn\, dove\nThe brewery sextet - sample a drink
  at all the breweries\n\nYou are responsible for your actions at all times
 . UNSWOC is not liable for any damage or injury sustained during the even
 t. While having a good time is encouraged\, getting overly sloshed and bec
 oming a nuisance is not.\n\nAny questions\, shoot me a message!\n\n&nbsp\;
CATEGORIES:Orienteering,Rogaining,Social Event
END:VEVENT
BEGIN:VTIMEZONE
TZID:Australia/Sydney
X-LIC-LOCATION:Australia/Sydney
BEGIN:STANDARD
DTSTART:20230402T020000
TZOFFSETFROM:+1100
TZOFFSETTO:+1000
TZNAME:AEST
END:STANDARD
END:VTIMEZONE
END:VCALENDAR