BEGIN:VCALENDAR
VERSION:2.0
PRODID:-//wp-events-plugin.com//7.2.3.1//EN
TZID:Australia/Sydney
X-WR-TIMEZONE:Australia/Sydney
BEGIN:VEVENT
UID:2341@unswoc.org
DTSTART;VALUE=DATE:20181124
DTEND;VALUE=DATE:20181125
DTSTAMP:20181119T134219Z
URL:https://unswoc.org/wordpress/events/saturdayshipleyupper/
SUMMARY:BL Saturday - Climbing at Shipley Upper
DESCRIPTION:G'day mates\,\n\nAidan and I will be leading a climbing trip to
  Shipley Upper (might change) in the Blue Mountains during the Saturday of
  Boree Log.\n\nNo climbing experience is required as we’ll be setting up
  top ropes. The easiest climbs are grade 17 and 18 and there are some grea
 t 20-22 climbs for those keen.\n\nPlease include in the comments: your cli
 mbing experience\, whether you are able to drive\, your most hated fruit a
 nd what gear you already own.\n\nWe will meet up at 8:00am on Saturday mor
 ning at Dunphy's campground or you can meet us at the crag. Any gear that 
 you require will be collected together on Saturday morning.\n\n 	Gear: ha
 rness\, helmet\, climbing shoes\, ATC + carabiner (if you have your own ma
 ke sure you bring it!!!).\n 	What to bring: sunscreen\, 2 l water\, food 
 for the day\, sporty-warm clothes\, a day backpack to fit all your stuff i
 nside\, camera\, smiles etc.\n 	Meeting point: 8:00am at Boree Log.\n\nSe
 e you there!\n\nTad Karapetian
CATEGORIES:Outdoor Climbing
END:VEVENT
END:VCALENDAR