BEGIN:VCALENDAR
VERSION:2.0
PRODID:-//wp-events-plugin.com//7.2.3.1//EN
TZID:Australia/Sydney
X-WR-TIMEZONE:Australia/Sydney
BEGIN:VEVENT
UID:2625@unswoc.org
DTSTART;TZID=Australia/Sydney;VALUE=DATE:20200314
DTEND;TZID=Australia/Sydney;VALUE=DATE:20200315
DTSTAMP:20200311T212813Z
URL:https://unswoc.org/wordpress/events/saturday-sport-climbing-weather-pe
 rmitting/
SUMMARY:CANCELLED - Saturday Sport Climbing (weather permitting)
DESCRIPTION:Greta and I (Stephen) are leading a SPORT CLIMBING day trip thi
 s SATURDAY 14th March to the Blue Mountains. Specific location to be annou
 nced\, but maybe Medlow Bath or Corroboree Walls. At the moment there's a 
 50% chance of some rain on Saturday so we're making this trip optimistical
 ly\, and will make the decision to go ahead or not closer to the weekend.\
 n\n 	We'll be up in the mountains already so the plan is to meet at the cr
 ag around 10 am (we should be able to give lifts for 1 or 2 people from a 
 train station if you don't have a car). Let us know in the comments whethe
 r you've got a car and are able to give lifts from Sydney.\n 	The trip wil
 l be beginner friendly but you'll get more out of the day if you've been d
 oing some (semi) regular climbing recently! Please let us know your climbi
 ng experience in the comments.\n 	The gear: Bring your own gear OR go visi
 t the gear guys at the gear cupboard (4-5 pm Thu &amp\; Fri at UNSW\, don'
 t forget a cash deposit) and grab yourself a:\n\n 	Helmet\n 	Harness\n 	Lo
 cking carabiner + belay device (ATC)\n 	Climbing shoes\n 	Chalk bag if you
  like\n\n\n\nWhat else to bring:\n\n 	\n\n 	\n\n 	Food and water for the d
 ay (at least 2 L)\n 	Personal meds if needed\n 	Appropriate clothing for c
 limbing and a jacket in case it gets cold/wet\n 	A decent size backpack to
  fit all the climbing gear\n 	Enclosed shoes for the approach\n 	Sunscreen
 \n 	Phone full of battery\n 	Petrol money for the driver/opal card for the
  train\n 	Enthusiasm to climb!\n\n\n\n\n\n&nbsp\;\n\nAny questions\, messa
 ge me (Stephen Roche) on Facebook or find me this Thursday at The Ledge :)
 \n\nThanks to Maria for the trip template!!\n\n
ATTACH;FMTTYPE=image/jpeg:https://unswoc.org/wordpress/wp-content/uploads/
 2016/07/SAM_6534.jpg
CATEGORIES:Outdoor Climbing
END:VEVENT
BEGIN:VTIMEZONE
TZID:Australia/Sydney
X-LIC-LOCATION:Australia/Sydney
BEGIN:DAYLIGHT
DTSTART:20191006T030000
TZOFFSETFROM:+1000
TZOFFSETTO:+1100
TZNAME:AEDT
END:DAYLIGHT
END:VTIMEZONE
END:VCALENDAR