BEGIN:VCALENDAR
VERSION:2.0
PRODID:-//wp-events-plugin.com//7.2.3.1//EN
TZID:Australia/Sydney
X-WR-TIMEZONE:Australia/Sydney
BEGIN:VEVENT
UID:2637@unswoc.org
DTSTART;TZID=Australia/Sydney;VALUE=DATE:20200321
DTEND;TZID=Australia/Sydney;VALUE=DATE:20200322
DTSTAMP:20200317T005133Z
URL:https://unswoc.org/wordpress/events/saturday-sport-climbing-at-medlow-
 bath/
SUMMARY:CANCELLED - Saturday Sport Climbing at Medlow Bath
DESCRIPTION:IMPORTANT: Please do not sign up for this trip if you are feel
 ing unwell\, have recently travelled overseas or come into contact with a 
 suspected case of coronavirus\, or regularly come into contact with an imm
 uno-compromised person. We may choose not to run this trip if we think it'
 s unwise.\n\n-----------------------------------\n\nBoree Log may be cance
 lled\, but for those of you who are still really keen to climb Greta and I
  (Stephen) are leading a small SPORT CLIMBING day trip this SATURDAY 21st 
 March to Medlow Bath in the Blue Mountains.\n\n 	We'll be up in the mounta
 ins already so the plan is to meet at the crag around 10 am. Let us know i
 n the comments if you have a car and are able to get lifts from Sydney so 
 we can organise car pooling. Otherwise the crag's within walking distance 
 of a train station so that's an easy option.\n 	The trip will be beginner 
 friendly but you'll get more out of the day if you've been doing some (sem
 i) regular climbing recently! Please let us know your climbing experience 
 in the comments\, and whether you know how to lead belay.\n 	The gear: Bri
 ng your own gear OR go visit the gear guys at the gear cupboard (4-5 pm Th
 u &amp\; Fri at UNSW\, don't forget a cash deposit) and grab yourself a:\n
 \n 	Helmet\n 	Harness\n 	Locking carabiner + belay device (ATC)\n 	Climbin
 g shoes\n 	Chalk bag if you like\n 	Safety sling if you want to learn\n\n\
 n\nWhat else to bring:\n\n 	\n\n 	\n\n 	Food and water for the day (at lea
 st 2 L)\n 	Personal meds if needed\n 	Appropriate clothing for climbing an
 d a jacket in case it gets cold/wet\n 	A decent size backpack to fit all t
 he climbing gear\n 	Enclosed shoes for the approach\n 	Sunscreen\n 	Phone 
 full of battery\n 	Petrol money for the driver/opal card for the train\n 	
 Enthusiasm to climb!\n\n\n\n\n\nAny questions\, message me (Stephen Roche)
  on Facebook :)\n\n
ATTACH;FMTTYPE=image/jpeg:https://unswoc.org/wordpress/wp-content/uploads/
 2016/07/SAM_6534.jpg
CATEGORIES:Outdoor Climbing
END:VEVENT
BEGIN:VTIMEZONE
TZID:Australia/Sydney
X-LIC-LOCATION:Australia/Sydney
BEGIN:DAYLIGHT
DTSTART:20191006T030000
TZOFFSETFROM:+1000
TZOFFSETTO:+1100
TZNAME:AEDT
END:DAYLIGHT
END:VTIMEZONE
END:VCALENDAR