BEGIN:VCALENDAR
VERSION:2.0
PRODID:-//wp-events-plugin.com//7.2.3.1//EN
TZID:Australia/Sydney
X-WR-TIMEZONE:Australia/Sydney
BEGIN:VEVENT
UID:2762@unswoc.org
DTSTART;VALUE=DATE:20201114
DTEND;VALUE=DATE:20201115
DTSTAMP:20201110T044920Z
URL:https://unswoc.org/wordpress/events/saturday-rock-climbing-trip-in-the
 -blue-mountains/
SUMMARY:*FULL* Saturday Rock Climbing Trip in The Blue Mountains
DESCRIPTION:Hello friends\n\nScott and I will be leading a climbing trip in
  the Blue Mountains this Saturday.\n\nThe exact location will be decided i
 n the coming days but will be accessible by train.\n\nPreferably you have 
 done some climbing indoors and know what a rope is. Outdoor climbing exper
 ience is not essential as we'll be setting up top ropes like in the gym.\n
 \nPlease comment below or send me a message on facebook telling me your cl
 imbing experience\, whether you plan on driving up or taking public transp
 ort\, what climbing gear you own and what type of bird you would be if had
  to choose (mine: cassowary).\n\nWe will obtain any gear that you require 
 but you must tell me what you need ASAP\, otherwise you will be left with 
 no choice but to free solo :P\n\n 	Gear: harness\, helmet\, climbing shoes
  (you must have your own)\, ATC + carabiner (if you have your own make sur
 e you bring it).\n 	What to bring: sunscreen\, 2L water minimum\, food/sna
 cks for the day\, hat\, sunglasses\, a jacket\, a day backpack to fit all 
 your stuff inside\, camera\, etc.\n 	When: We will roughly aim to meet up 
 in the Blue Mountains (Katoomba) around 11am.\n\n\n\nSee you there!\n\nTad
  Karapetian
CATEGORIES:Outdoor Climbing
END:VEVENT
END:VCALENDAR