BEGIN:VCALENDAR
VERSION:2.0
PRODID:-//wp-events-plugin.com//7.2.3.1//EN
TZID:Australia/Sydney
X-WR-TIMEZONE:Australia/Sydney
BEGIN:VEVENT
UID:2436@unswoc.org
DTSTART;TZID=Australia/Sydney;VALUE=DATE:20190713
DTEND;TZID=Australia/Sydney;VALUE=DATE:20190714
DTSTAMP:20190709T024315Z
URL:https://unswoc.org/wordpress/events/saturday-nowra-climbing-trip/
SUMMARY:Saturday Nowra Climbing Trip
DESCRIPTION:This weekend Glenn\, Cameron and I (Ash) will be leading a clim
 bing trip to Thompson's point at Nowra. So if you're keen to try climbing 
 somewhere other than the Blue Mountains\, you should come along!  This is
  a beginner appropriate trip and there’ll be something for everyone. If 
 you’re keen to join\, be sure to add the follow to the comments and/or m
 essage me on fb:\n\n 	Whether you’ve climbed at all indoors and/or outdo
 ors before\n 	Whether you have a car and can offer lifts\n 	What your favo
 urite native Australian bat is\n\nIt will be chilly\, so warm clothing is 
 a must. Layers will be good so you can take something off while you climb.
 \n\nYou will need:\n\n 	*Helmet\n 	*Harness\n 	*Belay device + Locking Car
 abiner\n 	*Climbing Shoes\n 	Food + water (at least 1.5L!!)\n 	Backpack to
  carry the above\n 	WARM CLOTHING\n 	petrol money for you driver\n 	*enthu
 siasm\n\n*These items can be borrowed from the club on gear night.\n\nThan
 ks to Hayden/Jeffery/Jenny for the trip template!
CATEGORIES:Outdoor Climbing
END:VEVENT
BEGIN:VTIMEZONE
TZID:Australia/Sydney
X-LIC-LOCATION:Australia/Sydney
BEGIN:STANDARD
DTSTART:20190407T020000
TZOFFSETFROM:+1100
TZOFFSETTO:+1000
TZNAME:AEST
END:STANDARD
END:VTIMEZONE
END:VCALENDAR