BEGIN:VCALENDAR
VERSION:2.0
PRODID:-//wp-events-plugin.com//7.2.3.1//EN
TZID:Australia/Sydney
X-WR-TIMEZONE:Australia/Sydney
BEGIN:VEVENT
UID:3484@unswoc.org
DTSTART;TZID=Australia/Sydney;VALUE=DATE:20241005
DTEND;TZID=Australia/Sydney;VALUE=DATE:20241006
DTSTAMP:20241004T231707Z
URL:https://unswoc.org/wordpress/events/saturday-multi-pitch-sport-climbin
 g-at-heathcliff-intermediate-5-9-24/
SUMMARY:SATURDAY Multi-pitch Sport Climbing at Heathcliff (Intermediate) 5/
 9/24
DESCRIPTION:Hey everyone\,\n\nNext weekend (Saturday 5th October)\, Gabriel
  and I will be taking a small group (4) to Heathcliff crag in the Blue Mou
 ntains to jump on a couple of multi-pitch sport climbs.\n\nWhile you do no
 t have to have done a multi-pitch before\, this will be an intermediate tr
 ip as you are expected to be competent with:\n\n 	Lead climbing and belayi
 ng\n 	Cleaning and basic abseiling skills\n 	Be comfortable leading grades
  18-20 sport\n\nThe most beginner friendly routes here are Boadicea (2 pit
 ch 70m grade 18)\, The Rift (3 pitch 55m grade 19) and A Bit Like the Gros
 e (3 pitch 60m grade 20)\, along with some harder multis too and a range o
 f single pitch climbs to hang out on afterwards. You can check out the cra
 g page here.\n\nThis will be an all day event and we will carpool from Syd
 ney early on Saturday morning\, so please let us know in the comment if yo
 u have a car and where you will leave from. Note this is another weather d
 ependent trip of course but fingers crossed for a dry day.\n\nYou will nee
 d to bring the following:\n\n 	Climbing harness*\n 	Climbing helmet*\n 	Be
 lay device (eg ATC guide) + two locking carabiners*\n 	Safety sling + lock
 ing carabiner*\n 	2 prusiks*\n 	Climbing shoes* (COMFORTABLE - i.e. not yo
 ur aggressive indoor bouldering shoes\, you'll be standing in them all day
 )\n 	Gear for anchor* (eg 120cm sling and two locking carabiners)\n 	2L of
  water\n 	Lunch\, snacks\n 	Medication\, if needed\n 	Headtorch + spare ba
 tteries\n 	A small backpack (assume you'll need to climb with all your bel
 ongings\, including your approach shoes)\n 	Wind breaker or jumper (it can
  get very windy)\n 	Sunscreen\, sunglasses etc.\n\nItems marked *  can be
  borrowed from the Gear Cupboard open Thursdays 5-6pm\n\nIf you are keen t
 o sign up\, please include in your comment your climbing/ multi experience
  (VERY IMPORTANT) - include frequency and rough sport grades\, and any rop
 e skills experience (abseiling\, ascending etc.). Also let us know if you 
 have a car and include a link to your Facebook profile or a phone number i
 n case we have more questions for you...\n\nPlease be aware that we can on
 ly take roughly 4 people on this trip (could change depending on the exper
 ience of group). Sign ups will open on Thursday 26th (tomorrow) at 8am jus
 t to give everyone a chance to see this trip post first.\n\nWe will also b
 e running a skills night at The Ledge Climbing Center\, around 5:30pm on t
 he thursday before (3rd)\, to practise multi pitch anchors\, top belays an
 d other skills. Please indicate if you can make this in the description. N
 ot Mandatory but highly recommended. \n\nGet keen!\n\nAmelia K and Gabrie
 l
CATEGORIES:Outdoor Climbing
LOCATION:https://www.google.com/maps/place/Porters+Pass+Track+Trailhead/@-3
 3.6269815,150.2773434,128m/data=!3m1!1e3!4m15!1m8!3m7!1s0x6b1272403c078d75
 :0x4e67c4746b0ec30d!2sBurton+Rd,+Blackheath+NSW+2785!3b1!8m2!3d-33.6271329
 !4d150.2784067!16s%2Fg%2F1v2jd1mm!3m5!1s0x6b12732756d8dc73:0x5b511fb6cca8e
 ef9!8m2!3d-33.6270542!4d150.2777918!16s%2Fg%2F11tnbl7l2c?entry=ttu&g_ep=Eg
 oyMDI0MDkyMi4wIKXMDSoASAFQAw%3D%3D
END:VEVENT
BEGIN:VTIMEZONE
TZID:Australia/Sydney
X-LIC-LOCATION:Australia/Sydney
BEGIN:STANDARD
DTSTART:20240407T020000
TZOFFSETFROM:+1100
TZOFFSETTO:+1000
TZNAME:AEST
END:STANDARD
END:VTIMEZONE
END:VCALENDAR