BEGIN:VCALENDAR
VERSION:2.0
PRODID:-//wp-events-plugin.com//7.2.3.1//EN
TZID:Australia/Sydney
X-WR-TIMEZONE:Australia/Sydney
BEGIN:VEVENT
UID:2127@unswoc.org
DTSTART;VALUE=DATE:20170318
DTEND;VALUE=DATE:20170319
DTSTAMP:20170315T054117Z
URL:https://unswoc.org/wordpress/events/saturday-hike-victoria-falls-pierc
 es-pass-boree-log/
SUMMARY:Saturday Hike - Victoria Falls to Pierces Pass - Boree Log
DESCRIPTION:Ryan and I are running a hike from Victoria Falls to Pierces Pa
 ss and while all are welcome\, it will require moderate fitness. I am also
  happy to teach you a bit about the local wildlife and flora as we progres
 s through the day (or tell me to shut it if I babble too much \;P).\n\nPle
 ase comment in the registration your fitness level and whether you have a 
 car.\n\nYou will need to bring:\n– day bag\n– 2L of water\n– Snacks 
 and lunch\n– Sunscreen and/or hat\n– Enclosed shoes\n– Rain jacket\
 n– Camera (optional)\n\nHope to see you there!\n\nNB: You must be signe
 d up to the main Boree Log event to attend
CATEGORIES:Boree Log,Bushwalking
END:VEVENT
END:VCALENDAR