BEGIN:VCALENDAR
VERSION:2.0
PRODID:-//wp-events-plugin.com//7.2.3.1//EN
TZID:Australia/Sydney
X-WR-TIMEZONE:Australia/Sydney
BEGIN:VEVENT
UID:752@unswoc.org
DTSTART:20150313T220000Z
DTEND:20150314T050000Z
DTSTAMP:20150310T104721Z
URL:https://unswoc.org/wordpress/events/saturday-hike-valley-of-the-waters
 /
SUMMARY:Saturday Hike\, Valley of the Waters
DESCRIPTION:Hey guys\,\n\nLuke Robbins and I (Dion) are going to walk the l
 oop track at Wentworth falls on the Saturday of Boree log. Called the Vall
 ey of the Waters its got a pretty good view of Empress Falls and the mount
 ains in general. You don't need to be particularly fit to come on this tri
 p although you will need to be able to go up and down several flights of s
 tairs. We'll have lunch and cool off at the base of the falls. Basically y
 ou just need to bring some decent shoes\, i.e. runners\, i.e. not thongs\,
  a dry pair of socks and a bag with enough lunch and water to last you thr
 ough the heat of the day and probably also some sunscreen and a hat. If yo
 u've read the trip description and and still have a question text me on 04
 15866402 and I might get back to you. We'll sort out transport through Fac
 ebook after most people have signed up.\n\nCatch you on the flip\,\n\nDi
 on.\n\n
CATEGORIES:Bushwalking
LOCATION:Conservation Hut\, Wentworth Falls\, \, 
GEO:0.000000;0.000000
X-APPLE-STRUCTURED-LOCATION;VALUE=URI;X-ADDRESS=\, ;X-APPLE-RADIUS=100;X-TI
 TLE=Conservation Hut\, Wentworth Falls:geo:0.000000,0.000000
END:VEVENT
END:VCALENDAR