BEGIN:VCALENDAR
VERSION:2.0
PRODID:-//wp-events-plugin.com//7.2.3.1//EN
TZID:Australia/Sydney
X-WR-TIMEZONE:Australia/Sydney
BEGIN:VEVENT
UID:2144@unswoc.org
DTSTART:20170407T191500Z
DTEND:20170408T074500Z
DTSTAMP:20170403T134105Z
URL:https://unswoc.org/wordpress/events/saturday-climbing-curing-the-post-
 boree-log-blues/
SUMMARY:Saturday Climbing - Curing the Post-Boree-Log Blues
DESCRIPTION:Hey all\,\n\nChris and I will be running a beginner climbing tr
 ip this Saturday! Come join us for an introduction to climbing (no experie
 nce necessary). We will likely be climbing somewhere close to Sydney\, but
  this will be arranged this week depending on the weather. Places will be 
 limited to 8.\n\nWhat you will need:\n\n	Climbing shoes*\n	1 locking carab
 iners*\n	1 ATC/belay device*\n	Harness*\n	Helmet*\n	Chalk (optional)\n	Wat
 er (2L)\n	Lunch\n	Snacks\n	Petrol money for your driver\n\n*Can be borrowe
 d from the gear cupboard for free (with a $10 deposit). See facebook for w
 hen it opens - usually wednesday night.\n\n&nbsp\;\n\nSign up below and le
 t us know if you have any questions.
CATEGORIES:Outdoor Climbing
END:VEVENT
END:VCALENDAR