BEGIN:VCALENDAR
VERSION:2.0
PRODID:-//wp-events-plugin.com//7.2.3.1//EN
TZID:Australia/Sydney
X-WR-TIMEZONE:Australia/Sydney
BEGIN:VEVENT
UID:2323@unswoc.org
DTSTART;VALUE=DATE:20181103
DTEND;VALUE=DATE:20181104
DTSTAMP:20181030T022750Z
URL:https://unswoc.org/wordpress/events/saturday-climbing-berowra-intermed
 iate/
SUMMARY:Saturday Climbing in Berowra [Intermediate]
DESCRIPTION:Hey everyone\,\n\nSteven and I are planning on going to Berowra
  to take on some tougher climbs in the Glamorphus area: https://www.thecr
 ag.com/climbing/australia/hornsby-and-the-north/area/339452010 .\n\nWe'd b
 e able to set up some top ropes but this is an intermediate climbing trip 
 so you must be able to confidently climb at grade 18 outdoors because ther
 e not many easier climbs around.\n\nPlease send me a message on facebook t
 elling me your climbing experience\, whether you will be driving and what 
 gear you need.\n\n 	Gear: harness\, helmet\, climbing shoes (you must have
  your own)\, ATC + carabiner (if you have your own make sure you bring it)
 .\n 	What to bring: sunscreen\, 2 l water\, food for the day\, sporty-warm
  clothes\, a day backpack to fit all your stuff inside\, camera\, etc.\n 	
 Meeting point: End of Wideview Road\, Berowra. 8:30am Saturday.\n\nSee yo
 u there!\n\nTad Karapetian
CATEGORIES:Outdoor Climbing
END:VEVENT
END:VCALENDAR