BEGIN:VCALENDAR
VERSION:2.0
PRODID:-//wp-events-plugin.com//7.2.3.1//EN
TZID:Australia/Sydney
X-WR-TIMEZONE:Australia/Sydney
BEGIN:VEVENT
UID:2425@unswoc.org
DTSTART:20190621T130000Z
DTEND:20190621T130000Z
DTSTAMP:20190620T062539Z
URL:https://unswoc.org/wordpress/events/saturday-climbing-bangor-west-weat
 her-permitting/
SUMMARY:Saturday- Climbing in the Blues
DESCRIPTION:Hi All\,\n\nThis weekend myself and Hamish will be leading a tr
 ip to the blues\, possibly Shipley or Medlow. We will be aiming to get up 
 there around 10am. All skill levels are welcome\, we will set up some top 
 ropes!\n\n&nbsp\;\n\nIf people could get a Harness\, Helmet\, Shoes and AT
 C from the gear cupboard that would be great!\n\nPlease PM me (Izzy Bradle
 y) if you have a car.\n\nPlease bring:\n\nWater\n\nFood\n\nMoney for drive
 r\n\nHarness/ATC/Helmet (we can pick these up on Saturday if needed)\n\nRa
 in Jacket and Warm Clothes!!!!\n\nSee you saturday!\n\n&nbsp\;
END:VEVENT
END:VCALENDAR