BEGIN:VCALENDAR
VERSION:2.0
PRODID:-//wp-events-plugin.com//7.2.3.1//EN
TZID:Australia/Sydney
X-WR-TIMEZONE:Australia/Sydney
BEGIN:VEVENT
UID:715@unswoc.org
DTSTART;VALUE=DATE:20150314
DTEND;VALUE=DATE:20150315
DTSTAMP:20150309T082314Z
URL:https://unswoc.org/wordpress/events/saturday-bushwalk-boree-log/
SUMMARY:Saturday Bushwalk\, Boree Log
DESCRIPTION:Hi\, i'll be running a bushwalk on the Saturday of Boree Log. 
  Its aimed at people who are interested in doing more bushwalking\, and wa
 nt to learn a few things to be able to run your own bushwalking trips.\n\n
 It doesn't need a lot of experience\, if you are just interested in doing 
 day walks on marked tracks\, or if you want to learn more about off-track 
 navigating for several day trips\, either is fine.  What i'd like to do i
 s help people learn some basic things &amp\; gain a bit of confidence to r
 un something (within your skill level) yourself.\n\nI'm planning to head t
 o the Gardens of Stone area\, to one of the unprotected regions that is cu
 rrently threatened by the expansion of coal mines. http://www.bluemountain
 s.org.au/gos2.shtml\n\nIf you're interested in joining this trip\, please 
 send me an email &amp\; say a few things about yourself &amp\; what you're
  interested in with outdoor stuff &amp\; bushwalking.\n\n&nbsp\;\n\n:)
ATTACH;FMTTYPE=image/jpeg:https://unswoc.org/wordpress/wp-content/uploads/
 2015/03/10371326_356839451154781_8157845475011206687_ob.jpg
CATEGORIES:Bushwalking
LOCATION:\, \, 
X-APPLE-STRUCTURED-LOCATION;VALUE=URI;X-ADDRESS=\, ;X-APPLE-RADIUS=100;X-TI
 TLE=:geo:0,0
END:VEVENT
END:VCALENDAR