BEGIN:VCALENDAR
VERSION:2.0
PRODID:-//wp-events-plugin.com//7.2.3.1//EN
TZID:Australia/Sydney
X-WR-TIMEZONE:Australia/Sydney
BEGIN:VEVENT
UID:2388@unswoc.org
DTSTART;VALUE=DATE:20190323
DTEND;VALUE=DATE:20190324
DTSTAMP:20190318T010709Z
URL:https://unswoc.org/wordpress/events/saturday-boreelog-beginners-climbi
 ng/
SUMMARY:[SATURDAY] BOREELOG BEGINNERS CLIMBING COURSE
DESCRIPTION:\n\nHey you!\nYeh you!\n\nHave you ever wanted to get into some
  climbing action and ascend mighty cliffs?\nAre you curious about pushing 
 the human spirit and body to new limits?\n\nWell strap your adrenaline jun
 kie mind in for an full day of epic Saturday climbing. If you've always co
 nsidered yourself up to the challenge or are keen to break out of your com
 fort zone\, this is trip for you!\n\nBoth Jack and myself (Steve) are here
  to provide you with an awesome introduction to the world of climbing. Alt
 hough we will be working on beginner's climbing techniques this expedition
  gladly welcomes climbers of all levels. Despite this trip is aimed at cli
 mbers who mostly top rope\, sport climbing will also be taught if there is
  demand.\n\nWe will be heading to The Soft Parade crag close to Mount Vict
 oria. The crag is relatively easy to access so you don't have to waste all
  your energy just trying to find the damn cliff! A large variety of beginn
 er to intermediate grades (10-19) make this the perfect place to learn and
  work on proper skills.\n\nDown below in the comments let us know what sor
 t of climbing experience you have\, whether you have your own transport an
 d what sort of gear you own that you can bring along.\n\nIts super importa
 nt that everyone has a good time so make sure to bring appropriate outdoor
  clothes and plenty of snacks for when your too pumped out to climb.\n\nWe
  will head as a group from the Boree Log campground near the trailer aroun
 d 8:00am on Saturday morning. There you can organise a gear pick up (for t
 hose who require the clubs climbing equipment).\n\n 	Gear: harness\, helm
 et\, climbing shoes\, ATC + carabiner (if you have your own make sure you 
 bring it!!!).\n 	What to bring: sunscreen\, 2L water (minimum!)\, food an
 d snacks for the day\, sporty-warm clothes\, comfortable access shoes (old
  runners or hiking bookts)\, a day backpack to fit all your stuff inside\,
  camera\, TOILET PAPER etc.\n 	Meeting point: 8:00am at Boree Log Trailer
  (Cathedral of Ferns Campground\, Mt Wilson).\n\n*You must sign up to and 
 be approved for the Boree Log trip on this website before you are approved
  for this trip.\n\nSee you there!\n\nSteve Farbenblum &amp\; Jack Gifford\
 n\n
CATEGORIES:Boree Log,Outdoor Climbing
END:VEVENT
END:VCALENDAR