BEGIN:VCALENDAR
VERSION:2.0
PRODID:-//wp-events-plugin.com//7.2.3.1//EN
TZID:Australia/Sydney
X-WR-TIMEZONE:Australia/Sydney
BEGIN:VEVENT
UID:2382@unswoc.org
DTSTART;VALUE=DATE:20190323
DTEND;VALUE=DATE:20190324
DTSTAMP:20190312T201834Z
URL:https://unswoc.org/wordpress/events/saturday-boree-log-twister-rocky-c
 anyon/
SUMMARY:SATURDAY BOREE LOG - Twister/Rocky Canyon
DESCRIPTION:Hey Guys\,\n\nNicola\, Cameron and I will be leading Twister/Ro
 cky Canyon on Saturday of Boree Log. It'll be awesome with plenty of jumps
 \, swimming and looking a cool\, curved rocks.\n\nThis is super beginner f
 riendly so no experience in canyoning is needed.\n\n\n\n&nbsp\;\n\nThings 
 to bring:\n\n 	SHORTS – to wear over the wetsuit – we don’t want the
  seat of the club wetsuits to wear out on the slides! (seriously\, you may
  not get to wear a club wetsuit if you don’t have something to wear over
  it)\n 	HELMET*\n 	Closed shoes (volleys are pretty good if you are at a l
 oss) and WOOLLEN socks\n 	Dry warm clothing (in a dry bag)\n 	Rain jacket/
 windbreaker if you have it + beanie if you get cold easily\n 	lunch and wa
 ter\n 	head torch (also in dry bag) with full/spare batteries\n 	backpack 
 to carry it all in\n 	WETSUIT* (N.B. due to high numbers at Boree Log\, we
  can't guarantee you can borrow a wetsuit\, please bring your own if have 
 one)\n 	Thermals to wear underneath wetsuit if you get cold easily\n\nCott
 on does not retain heat once it gets wet so avoid at all costs!😊\n\n* i
 tems means you can borrow these from the club on the day.\n\nAfter signing
  up\, Facebook message Nicola\, Cameron and I (Brendon) about what gear yo
 u have\, whether you will be driving and your favourite breakfast food.\n\
 nP.S.: You must be approved for Boree Log to attend this trip!
CATEGORIES:Boree Log,Canyoning
END:VEVENT
END:VCALENDAR