BEGIN:VCALENDAR
VERSION:2.0
PRODID:-//wp-events-plugin.com//7.2.3.1//EN
TZID:Australia/Sydney
X-WR-TIMEZONE:Australia/Sydney
BEGIN:VEVENT
UID:1988@unswoc.org
DTSTART:20160318T220000Z
DTEND:20160319T050000Z
DTSTAMP:20160316T105848Z
URL:https://unswoc.org/wordpress/events/saturday-boree-log-challenging-beg
 inners-canyon-water-dragon-kelvinator/
SUMMARY:Saturday Boree Log Challenging Beginners Canyon - Water Dragon (Kel
 vinator)
DESCRIPTION:Hey\,\n\nOn Saturday me and Ben will be running Water Dragon ca
 nyon. It has 5 abseils and is very cold so it shouldn't be thought of as a
  leisurely liloing trip like the Wollangambe. The canyon itself is an hour
 s walk from the campground\, it is therefore well suited to people plannin
 g on getting super drunk Friday night and to people coming up Saturday mor
 ning\, especially those who are taking the train up to the mountains and d
 on't have a car. It doesn't take particularly long but is quite beautiful
  in sections.\n\nTo come on the trip you must be able to swim and you must
  have a wetsuit (I tried the final swim without one and got hypothermia)\;
  these can be borrowed from the club but its first come first serve so you
  might want to buy one if you don't have one already.\n\nYou don't need to
  have abseiled before but it is highly recommended you have as otherwise I
 'll have to teach you on the spot\n\nGear list\n\n	Shoes with grip that yo
 u don't mind getting wet and dirty\, such as Volleys from Big W\n	Wetsuit\
 , these can be borrowed\, bought second hand at Vinnies or bought for chea
 p at Aldi or Anaconda\n	Thermals\, these are really recommended\, you can 
 get top and bottom from either Macpac or Kathmandu for $40\, and they're u
 seful for Winter and around camp as well\n	Small backpack ~20L\n	Harness\,
  abseiling device and carabiner (the club has these)\n	Drybag (to keep you
 r stuff dry)\, Macpac\, Moutain Designs and Kathmandu sell these\n	Snacks 
 and a full lunch (high calories)\n	Any medication\n	Socks made of\, ideall
 y wool\, then polyester\, basically anything other than cotton\n\nI've on
 ly done it once and that was a couple of months ago so this could be fun.\
 n\nStay frosty\,\n\nDion.
CATEGORIES:Canyoning
END:VEVENT
END:VCALENDAR