BEGIN:VCALENDAR
VERSION:2.0
PRODID:-//wp-events-plugin.com//7.2.3.1//EN
TZID:Australia/Sydney
X-WR-TIMEZONE:Australia/Sydney
BEGIN:VEVENT
UID:2088@unswoc.org
DTSTART;VALUE=DATE:20161029
DTEND;VALUE=DATE:20161030
DTSTAMP:20161024T035605Z
URL:https://unswoc.org/wordpress/events/saturday-boree-log-caving-blowfly-
 cave/
SUMMARY:Saturday Boree Log - CAVING - Blowfly Cave
DESCRIPTION:Micheal Lee and I are leading Blowfly on the Saturday of Boree 
 Log. It is a vertical cave - so one abseil\, scrambling through the cave\,
  and then ascending (prussiking) back up at the end.\n\nWe'd like everyone
  who comes to be able to prussik and have had the experience of being in a
  cave before. If you can't but want to come we MAY be able to teach you be
 forehand or on friday night but no guarantees (message us both to ask)\n\n
 Things you need:\n\n	From the club:\n\n	helmet\n	harness\n	belay device an
 d locking biner\n	1 set of prussiks and locking biners\n	extra sling (for 
 use as a safety or for extending the length of short prussiks)\n\n\n	Sourc
 e yourself:\n\n	clothing and closed shoes that you are willing to get dirt
 y. I recommend long sleeves and pants that cover your knees. Keep in mind 
 that it is colder in the cave than outside.\n	Headtorch (yes you need this
 ! You can buy a cheap one for like $15 in Anaconda - generally useful for 
 camping and outdoorsy stuff in the future too)\n	backpack that you are wil
 ling to get dirty\n	water and a snack\n	if you have a small bladder\, brin
 g a bottle or something to pee into\n\n\n\nPlease PM me with your experien
 ce (including any abseiling\, caving or prussiking experience you may have
 )
CATEGORIES:Caving
END:VEVENT
END:VCALENDAR