BEGIN:VCALENDAR
VERSION:2.0
PRODID:-//wp-events-plugin.com//7.2.3.1//EN
TZID:Australia/Sydney
X-WR-TIMEZONE:Australia/Sydney
BEGIN:VEVENT
UID:3549@unswoc.org
DTSTART;TZID=Australia/Sydney;VALUE=DATE:20250322
DTEND;TZID=Australia/Sydney;VALUE=DATE:20250323
DTSTAMP:20250320T020627Z
URL:https://unswoc.org/wordpress/events/saturday-bl-yileen-beginner-canyon
 /
SUMMARY:[FULL] SATURDAY BL - YILEEN Canyon [Beginner]
DESCRIPTION:Hey everyone!\n\nDaniel G and I (Cornellius) will be running a 
 beginner’s canyoning trip to Yileen Canyon on Saturday for Boree Log.\n\
 n\n\n&nbsp\;\n\nWe're looking at 6 hours in total. Driving to the Mount Wi
 lson turn-off\, we will bushwalk down to the canyon to swim\, abseil\, wal
 k\, crawl\, and scramble our way through some very cold water in our wetsu
 its before heading back to our cars. There is the option of a car shuffle 
 to save an hour of walking back to the top - if you are able to drive\, yo
 u will be more likely to be accepted into this trip!\n\nPlease ensure you 
 bring ALL the gear listed below:\n\nGear available to borrow from the Cl
 ub on the day:\n\n 	Canyoning harness\n 	Helmet\n 	2x Locking carabiners\n
  	1x Figure 8 descender\n 	1x Safety sling\n 	Drybag \n\nOther gear you
  MUST bring:\n\n 	Backpack that can fit ALL your gear and that can get 
 wet (30L+)\n 	Wetsuit (if you don't own a wetsuit\, the club has some to b
 orrow - no guarantees of sizing/availability\, however!)\n 	Emergency blan
 ket – (can buy from Gear Cupboard for $5 or from chemists\, shops\, etc
 )\n 	Clothing:\n\n 	Enclosed shoes with good grip\, suitable for water an
 d bushwalking\n 	Wool or neoprene socks\n 	Boardshorts to wear on top of
  wetsuit (compulsory to protect the club wetsuits)\n 	Thermals and raincoa
 t\n 	Swimmers for under wetsuit\n 	NO COTTON! (this includes socks\, shir
 ts\, pants\, etc)\n\n\n 	Food:\n\n 	2L of water\n 	Lunch\n 	Snacks to shar
 e!\n\n\n 	Other:\n\n 	Medication (asthma puffer\, Epipen etc)\n 	Headtorc
 h + spare batteries\n 	Dry clothes and a towel for the drive back to camp\
 n\n\n\nSome info on Yileen\n\nPlease let me know in the comments:\n\n 	You
 r abseiling/canyoning experience (none is ok!)\n 	Your fitness level and o
 utdoors experience\n 	Your swimming ability (you MUST be able to swim)\n 	
 If you have a car\, and if so\, how many spots you have\n 	Something inter
 esting about yourself\n\nYou need to be approved for the main Boree Log ev
 ent to attend these trips. Please sign up for only ONE trip per day. If yo
 u get rejected you can then sign up for another trip\, this just makes it 
 easier for volunteer trip leaders. Please be aware that as the weather is 
 unpredictable\, trip leaders may need to alter trips accordingly.\n\nGet k
 een!
CATEGORIES:Boree Log,Canyoning
LOCATION:https://www.google.com/maps?q=-33.5699,+150.3326
END:VEVENT
BEGIN:VTIMEZONE
TZID:Australia/Sydney
X-LIC-LOCATION:Australia/Sydney
BEGIN:DAYLIGHT
DTSTART:20241006T030000
TZOFFSETFROM:+1000
TZOFFSETTO:+1100
TZNAME:AEDT
END:DAYLIGHT
END:VTIMEZONE
END:VCALENDAR