BEGIN:VCALENDAR
VERSION:2.0
PRODID:-//wp-events-plugin.com//7.2.3.1//EN
TZID:Australia/Sydney
X-WR-TIMEZONE:Australia/Sydney
BEGIN:VEVENT
UID:3375@unswoc.org
DTSTART;TZID=Australia/Sydney;VALUE=DATE:20240316
DTEND;TZID=Australia/Sydney;VALUE=DATE:20240317
DTSTAMP:20240306T014156Z
URL:https://unswoc.org/wordpress/events/saturday-bl-whungee-wheengee-inter
 mediate-canyon/
SUMMARY:[TRIP FULL] SATURDAY BL - WHUNGEE WHEENGEE - Intermediate Canyon
DESCRIPTION:Hey all\, come join Mali and I (Daniel) in the best canyon at M
 ount Wilson! Expect cold water\, scrambling\, abseiling and swimming throu
 gh a dark narrow slot. Whungee Wheengee also has a few 'duck unders' where
  you need to swim underneath an obstacle to progress through the canyon\, 
 these are a bit scary but a lot of fun!! Oh and there are also glow worms.
  This canyon leaves and returns to the campground by foot\, no cars needed
 !\n\nThe full canyon notes can be found here: https://ozultimate.com/canyo
 ning/track_notes/whungee_wheengee.htm\n\n&nbsp\;\n\n[caption id="attachmen
 t_16045" align="alignnone" width="682"] Not Whungee Wheengee canyon[/capti
 on]\n\n&nbsp\;\n\nPlease write down in the comments your canyoning/abseili
 ng experience (it's ok to have none) and your favourite place to go swimmi
 ng.\n\n&nbsp\;\n\nWHAT TO BRING:\n\n 	Dry bag*\n 	Helmet*\n 	Harness*\n 	D
 escender (figure 8)*\n 	Safety Sling*\n 	2 x locking carabiners*\n 	Enclos
 ed shoes that you can walk in while wet\n 	Warm socks (not cotton!!)\n 	We
 tsuit* (Minimum 3mm\, recommended 5mm)\n 	Shorts to go over and protect yo
 ur wetsuit\n 	Water (at least 1.5L)\n 	Headtorch\n 	Emergency blanket (can
  be purchased from the club for $5)\n 	Warm clothes (bring a dry set of th
 ermals to go in the drybag)\n 	Backpack that will fit all your gear and ca
 n get wet\n 	Food to last the whole day (including some snacks to have on 
 the go!)\n\n*Can borrow from the club\, we will bring all the gear to Bore
 e Log\n\n&nbsp\;\n\n&nbsp\;
CATEGORIES:Boree Log,Canyoning
LOCATION:https://maps.app.goo.gl/TqSRTeHwSUfvpH3U8
END:VEVENT
BEGIN:VTIMEZONE
TZID:Australia/Sydney
X-LIC-LOCATION:Australia/Sydney
BEGIN:DAYLIGHT
DTSTART:20231001T030000
TZOFFSETFROM:+1000
TZOFFSETTO:+1100
TZNAME:AEDT
END:DAYLIGHT
END:VTIMEZONE
END:VCALENDAR