BEGIN:VCALENDAR
VERSION:2.0
PRODID:-//wp-events-plugin.com//7.2.3.1//EN
TZID:Australia/Sydney
X-WR-TIMEZONE:Australia/Sydney
BEGIN:VEVENT
UID:3224@unswoc.org
DTSTART;TZID=Australia/Sydney;VALUE=DATE:20230318
DTEND;TZID=Australia/Sydney;VALUE=DATE:20230319
DTSTAMP:20230313T053547Z
URL:https://unswoc.org/wordpress/events/saturday-bl-whungee-wheengee-inter
 mediate-advanced-canyon/
SUMMARY:[FULL] SATURDAY BL - Whungee Wheengee (Intermediate) - Canyon
DESCRIPTION:Whungee Wheengee Canyon\n\nJoin Maddi and I (Daniel) on a sick 
 canyon with heaps of abseils\, swims and a few duck Unders!\n\nThis is a m
 ore difficult canyon than the others offered so at this stage please sign 
 up just if you have previous abseiling/rope experience.\n\nWhat you need t
 o know? Expect a great day canyoning for around 8+ hrs round trip\, a walk
  up the river at the end\, and a scramble to exit.\n\nIt's gonna be a toug
 h but super fun day! Expect cold temperatures\, wetsuits are a must.\n\nTr
 ack notes: https://ozultimate.com/canyoning/track_notes/whungee_wheengee.h
 tm\n\nEssential gear:\n\n 	Space blanket/emergency blanket (mandatory).\n 
 	Headlamp (mandatory) w/ batteries\n 	Lunch/snacks and water (1.5L) for 8 
 hrs of potential canyoning. Fueling yourselves is essential\n 	Spare dry c
 lothes/thermals/jumper/beanie\n 	Dry bag to keep electronics/spare clothes
  warm.\n 	Appropriate clothing - no cotton - when wet it loses heat fast! 
 Think hiking clothes with boardies/swim shorts to protect wetsuit from dam
 age.\n 	Shoes with good grip and suitable for water - trainers with warm s
 ocks.\n 	Wet-suit (BYO if you have one\, else borrow from Boree Log Gear P
 ool)\n 	Wet-suit booties/gloves (It will be cold in Autumn)\n 	Helmet (BYO
  if you have one\, else borrow from Boree Log Gear Pool)\n 	Harness (BYO i
 f you have one\, else borrow from Boree Log Gear Pool)\n 	Descender/ Figur
 e 8 and Karabiner (BYO if you have one\, else borrow from Boree Log Gear P
 ool)\n 	Safety Sling and Karabiner (BYO if you have one\, else borrow from
  Boree Log Gear Pool)\n 	Small backpack to keep your drybag/gear. Expect i
 t to get wet/scratched.\n 	Any medication/medical devices you need.\n\n&nb
 sp\;\n\nSignups open 10am Saturday 11th March.\n\nYou need to be approved 
 for the main Boree Log event to attend these trips. If you get rejected th
 en you can sign up for another trip\, this just makes it easier for volunt
 eer trip leaders. Please be aware that as the weather is unpredictable\, t
 rip leaders may need to alter trips accordingly\n\nPlease comment any expe
 rience/hype/questions you have in the comment box below (Make sure to say 
 something!). Also comment your car and the number of seats available. aaaa
 aaand what's your favourite waterfall?\n\nFYI there are 8 spots (the ninth
  is there to allow awaiting list).[ez-toc]
CATEGORIES:Canyoning
END:VEVENT
BEGIN:VTIMEZONE
TZID:Australia/Sydney
X-LIC-LOCATION:Australia/Sydney
BEGIN:DAYLIGHT
DTSTART:20221002T030000
TZOFFSETFROM:+1000
TZOFFSETTO:+1100
TZNAME:AEDT
END:DAYLIGHT
END:VTIMEZONE
END:VCALENDAR