BEGIN:VCALENDAR
VERSION:2.0
PRODID:-//wp-events-plugin.com//7.2.3.1//EN
TZID:Australia/Sydney
X-WR-TIMEZONE:Australia/Sydney
BEGIN:VEVENT
UID:3487@unswoc.org
DTSTART;TZID=Australia/Sydney;VALUE=DATE:20241012
DTEND;TZID=Australia/Sydney;VALUE=DATE:20241013
DTSTAMP:20241002T072459Z
URL:https://unswoc.org/wordpress/events/saturday-bl-whungee-wheengee-canyo
 ning-intermediate-advanced/
SUMMARY:[FULL] SATURDAY BL - WHUNGEE WHEENGEE Canyoning [Intermediate/Advan
 ced]
DESCRIPTION:Jayden\, Hugh\, and I (Jason) will be running an intermediate/a
 dvanced trip through Whungee Wheengee Canyon on the Saturday of Boree Log.
  Come join us for one of the best canyons in the Blueies.\n\nYou need to b
 e approved for the main Boree Log event to attend these trips. Please sign
  up for only ONE trip per day. If you get rejected you can then sign up fo
 r another trip\, this just makes it easier for volunteer trip leaders. Ple
 ase be aware that as the weather is unpredictable\, trip leaders may need 
 to alter trips accordingly\n\nThis is a long day out (8+ hours) and involv
 es a long walk in\, several long and cold swims\, tricky abseils\, several
  "duck-unders"\, and a final swim/wade upstream to exit. It is important t
 hat all participants have experience in wet canyons. If you want to learn 
 more please have a read of the track notes here.\n\n&nbsp\;\n\nPlease make
  you sure bring ALL required gear. Some gear is available to borrow from t
 he club at camp on the morning of but is limited - if you have any of your
  own please bring it!\n\nGear available to borrow from the club:\n\n 	Harn
 ess\n 	Helmet\n 	3x locking carabiners\n 	1x Figure 8 / Descender\n 	1x S
 afety sling\n 	Drybag\n 	Wetsuit (5mm preferable)\n\nOther gear you MUST 
 bring:\n\n 	Backpack that can fit ALL your gear and that can get wet (30L
 +)\n 	Clothing:\n\n 	Enclosed shoes with good grip\, suitable for water a
 nd bushwalking\n 	Wool or neoprene socks\n 	Boardshorts to wear on top o
 f wetsuit (compulsory to protect the club wetsuits)\n 	Thermals and rainco
 at\n 	Swimmers for under wetsuit\n 	NO COTTON! (this includes socks\, shi
 rts\, pants\, undies\, etc)\n\n\n 	Food:\n\n 	2L of water\n 	Lunch\n 	Snac
 ks to share (with me)\n\n\n 	Other:\n\n 	Medication (asthma puffer\, Epip
 en etc)\n 	Headtorch + spare batteries\n 	Emergency blanket – (can buy f
 rom Gear Cupboard for $5 or from chemists\, shops\, etc)\n\n\n\n&nbsp\;\n\
 nTo let me know you have read this far please tell me what your canyon exp
 erience is and the total weight of insects you have consumed in your lifet
 ime (in grams or kilos).\n\nBonus points if you tell me what your favourit
 e snack is.\n\nBonus bonus points if you bring said favourite snack to sha
 re with me.\n\n&nbsp\;
CATEGORIES:Boree Log,Canyoning
LOCATION:https://g.co/kgs/ufYrkeZ
END:VEVENT
BEGIN:VTIMEZONE
TZID:Australia/Sydney
X-LIC-LOCATION:Australia/Sydney
BEGIN:DAYLIGHT
DTSTART:20241006T030000
TZOFFSETFROM:+1000
TZOFFSETTO:+1100
TZNAME:AEDT
END:DAYLIGHT
END:VTIMEZONE
END:VCALENDAR