BEGIN:VCALENDAR
VERSION:2.0
PRODID:-//wp-events-plugin.com//7.2.3.1//EN
TZID:Australia/Sydney
X-WR-TIMEZONE:Australia/Sydney
BEGIN:VEVENT
UID:3008@unswoc.org
DTSTART;TZID=Australia/Sydney:20220514T000000
DTEND;TZID=Australia/Sydney:20220514T000000
DTSTAMP:20220505T100112Z
URL:https://unswoc.org/wordpress/events/saturday-bl-waterfall-of-moss-cany
 on-intermediate-beginner/
SUMMARY:SATURDAY BL - Waterfall of Moss - Canyon Intermediate/Beginner
DESCRIPTION:[caption id="attachment_13779" align="alignnone" width="225"] C
 redit: Brendan Conneely Waterfall of Moss[/caption]\n\nWaterfall of Moss: 
 Is a 'dryish' canyon on the far side of the Wollangambe River.\n\n&nbsp\;\
 n\nJoin Elliot and I on a great little canyon/chasm with a series of techn
 ical abseils\, beautiful scenery and a great ending swim!\n\nWhat you need
  to know? Expect a great day canyoning for around 8+ hrs round trip\, a co
 ld swim at the end\, and a scramble to exit.\n\nClassed a intermediate can
 yon due to the overhanging abseils. Moderate/low 'wet' canyon - but in Aut
 umn expect cold temperatures.\n\nTrack notes: https://ozultimate.com/canyo
 ning/track_notes/waterfall_of_moss.htm\n\nEssential gear:\n\n 	Space blank
 et/emergency blanket (mandatory).\n 	Headlamp (mandatory) w/ batteries\n 	
 Lunch/snacks and water (1.5L) for 8 hrs of potential canyoning. Fueling yo
 urselves is essential\n 	Spare dry clothes/thermals/jumper/beanie\n 	Dry b
 ag to keep electronics/spare clothes warm.\n 	Appropriate clothing - no co
 tton - when wet it loses heat fast! Think hiking clothes with boardies/swi
 m shorts to protect wetsuit from damage.\n 	Shoes with good grip and suita
 ble for water - trainers with warm socks.\n 	Wet-suit (BYO if you have one
 \, else borrow from Boree Log Gear Pool)\n 	Wet-suit booties/gloves (It wi
 ll be cold in Autumn)\n 	Helmet (BYO if you have one\, else borrow from Bo
 ree Log Gear Pool)\n 	Harness (BYO if you have one\, else borrow from Bore
 e Log Gear Pool)\n 	Descender/ Figure 8 and Karabiner (BYO if you have one
 \, else borrow from Boree Log Gear Pool)\n 	Safety Sling and Karabiner (BY
 O if you have one\, else borrow from Boree Log Gear Pool)\n 	Small backpac
 k to keep your drybag/gear. Expect it to get wet/scratched.\n 	Any medicat
 ion/medical devices you need.\n\n&nbsp\;\n\nWe will be walking off from Ca
 thedral of Ferns Camping area down to the River to begin the Canyon.\n\nSi
 gnups open 9am Friday 6th of May. You must also be Approved for the main B
 oree Log Event.\n\nPlease comment any experience/hype/questions you have i
 n the comment box below.
ATTACH;FMTTYPE=image/jpeg:https://unswoc.org/wordpress/wp-content/uploads/
 2022/05/80E70752-23FA-4D00-BB56-6E99F3EAFAD2-scaled.jpeg
CATEGORIES:Canyoning
END:VEVENT
BEGIN:VTIMEZONE
TZID:Australia/Sydney
X-LIC-LOCATION:Australia/Sydney
BEGIN:STANDARD
DTSTART:20220403T020000
TZOFFSETFROM:+1100
TZOFFSETTO:+1000
TZNAME:AEST
END:STANDARD
END:VTIMEZONE
END:VCALENDAR