BEGIN:VCALENDAR
VERSION:2.0
PRODID:-//wp-events-plugin.com//7.2.3.1//EN
TZID:Australia/Sydney
X-WR-TIMEZONE:Australia/Sydney
BEGIN:VEVENT
UID:3488@unswoc.org
DTSTART;TZID=Australia/Sydney;VALUE=DATE:20241012
DTEND;TZID=Australia/Sydney;VALUE=DATE:20241013
DTSTAMP:20241006T044017Z
URL:https://unswoc.org/wordpress/events/saturday-bl-waterfall-of-moss-begi
 nner-intermediate-canyon/
SUMMARY:[FULL] SATURDAY BL – Waterfall of Moss Beginner/Intermediate Cany
 on
DESCRIPTION:Make sure you read the entire description\, and bring all the r
 equired gear“You need to be approved for the main Boree Log event to att
 end these trips. Please sign up for only ONE trip per day. If you get reje
 cted you can then sign up for another trip\, this just makes it easier for
  volunteer trip leaders. Please be aware that as the weather is unpredicta
 ble\, trip leaders may need to alter trips accordingly”Join Brendan and 
 I on a great little canyon with a series of technical abseils\, beautiful 
 scenery and a great swim! Participants will need to be comfortable with ab
 seiling\, cold swims\, and a reasonable walk in and out\n\n 	Canyoning gea
 r provided at Boree Log event (If you have personal gear it is helpful to 
 bring this along):\n\n 	Harness*\n 	Helmet*\n 	3x locking carabiner*\n 	1x
  Figure 8 / Descender*\n 	1x Safety sling*\n 	Drybag*\n 	Wetsuit*\n\n\n 	C
 anyoning gear not provided:\n\n 	Emergency blanket (You must carry one on 
 every club canyoning trip. You must buy one from the gear cupboard for $5 
 cash or most outdoor stores)\n 	Backpack that can fit ALL your gear in and
  that can get wet\n\n\n\n\n 	Clothing:\n\n 	Enclosed shoes with good grip 
 (old sneakers are best!)\n 	Wool / neoprene socks\n 	Boardshorts to wear o
 n top of wetsuit (compulsory to protect the club wetsuits)\n 	Thermals\n 	
 Gloves (gardening gloves are ok)\n 	Swimmers\n 	NO COTTON! (this includes
  socks\, shirts\, pants\, undies\, etc)\n\n\n 	Food:\n\n 	2L of water.\n 	
 Lunch\n 	Snacks (chocolate or something nice to share!)\n\n\n 	Miscellaneo
 us:\n\n 	Any personal medicine (asthma puffer\, Epipen etc)\n 	A pair of t
 hongs/flipflops to leave in the car (since your shoes will get wet) + towe
 l / change of clothes\n 	Phone or camera for photos (optional\, and only i
 f you’re prepared for it to get wet if your drybag leaks!)\n\n\n\nIf you
  have any questions\, message me on Facebook. Write down your canyoning / 
 abseiling / rope skills / outdoor experience in the comment when signing u
 p\, your favourite geological feature (so we know you’ve read this far)\
 n\nYou must be approved to the main Boree Log event to attend these trips.
  If you get rejected then you can sign up for another trip\, this just mak
 es it easier for volunteer trip leaders. Please be aware that as the weath
 er is unpredictable\, trip leaders may need to alter trips accordingly.\n\
 n
LOCATION:https://maps.app.goo.gl/7TMS8euiY5PCyD437
END:VEVENT
BEGIN:VTIMEZONE
TZID:Australia/Sydney
X-LIC-LOCATION:Australia/Sydney
BEGIN:DAYLIGHT
DTSTART:20241006T030000
TZOFFSETFROM:+1000
TZOFFSETTO:+1100
TZNAME:AEDT
END:DAYLIGHT
END:VTIMEZONE
END:VCALENDAR