BEGIN:VCALENDAR
VERSION:2.0
PRODID:-//wp-events-plugin.com//7.2.3.1//EN
TZID:Australia/Sydney
X-WR-TIMEZONE:Australia/Sydney
BEGIN:VEVENT
UID:3562@unswoc.org
DTSTART;TZID=Australia/Sydney;VALUE=DATE:20250322
DTEND;TZID=Australia/Sydney;VALUE=DATE:20250323
DTSTAMP:20250320T133042Z
URL:https://unswoc.org/wordpress/events/saturday-bl-victoria-falls-hike/
SUMMARY:SATURDAY BL - VICTORIA FALLS Hike!
DESCRIPTION:“You need to be approved for the main Boree Log event to atte
 nd these trips. Please sign up for only ONE trip per day. If you get rejec
 ted you can then sign up for another trip\, this just makes it easier for 
 volunteer trip leaders. Please be aware that as the weather is unpredictab
 le\, trip leaders may need to alter trips accordingly”\n\nHi all\, me (M
 arcus) and Tom are leading a hike to the the aptly-named Victoria Falls in
  Mount Victoria on the Saturday of Boree Log. We shall seek enlightenment 
 through scenery and improved leg muscles.\n\nThe hike is about 2.5km to th
 e waterfall\, and a steep 2.5km back up to the carpark. At the bottom of t
 he hike we will be rewarded with the waterfall which we will then be able 
 to swim underneath (bring your cozzies).\n\n 	Sunscreen– Make sure you b
 ring lots of sunscreen and apply every few hours!\n 	Swimwear - we will s
 wim at the waterfall at the end of the hike\n 	Water– Water is extremely
  important. Bring AT LEAST 2L of water. Preferably more as hiking uphill i
 s hot going.\n 	Lunch– You must provide your own lunch.\n 	Snacks– We
 ’ll be doing a lot of exercise\, so make sure you bring lots of snacks t
 o keep your energy levels up! Salt and vinegar chips and grain waves are a
 lways appreciated.\n 	Appropriate clothes – Shoe for hiking\, Hat\, lig
 ht clothes (you will get hot!)\, a and raincoat in case of bad weather.\n
  	If you have one... Head-torch – We are certainly not planning on needi
 ng this\, but if incase of emergency and we end up being benighted\, it wi
 ll be nice to have.\n\n&nbsp\;
CATEGORIES:Boree Log,Hectic Hiking
LOCATION:https://www.google.com/maps/place/Victoria+Falls+Walking+Track/@-3
 3.5505168,150.2451807,12.04z/data=!4m6!3m5!1s0x6b1273524fdaa62d:0xf58724a8
 80325774!8m2!3d-33.5736395!4d150.2912144!16s%2Fg%2F11rwwnjvd0?entry=ttu&g_
 ep=EgoyMDI1MDMwMy4wIKXMDSoASAFQAw%3D%3D
END:VEVENT
BEGIN:VTIMEZONE
TZID:Australia/Sydney
X-LIC-LOCATION:Australia/Sydney
BEGIN:DAYLIGHT
DTSTART:20241006T030000
TZOFFSETFROM:+1000
TZOFFSETTO:+1100
TZNAME:AEDT
END:DAYLIGHT
END:VTIMEZONE
END:VCALENDAR