BEGIN:VCALENDAR
VERSION:2.0
PRODID:-//wp-events-plugin.com//7.2.3.1//EN
TZID:Australia/Sydney
X-WR-TIMEZONE:Australia/Sydney
BEGIN:VEVENT
UID:3688@unswoc.org
DTSTART;TZID=Australia/Sydney;VALUE=DATE:20251018
DTEND;TZID=Australia/Sydney;VALUE=DATE:20251019
DTSTAMP:20251017T020301Z
URL:https://unswoc.org/wordpress/events/saturday-bl-victoria-falls-hike-sw
 im/
SUMMARY:SATURDAY BL - VICTORIA FALLS Hike/Swim
DESCRIPTION:Please note: You need to be approved for the main Boree Log eve
 nt to attend these trips. Please sign up for only ONE trip per day. If you
  get rejected you can then sign up for another trip\, this just makes it e
 asier for volunteer trip leaders. Please be aware that as the weather is u
 npredictable\, trip leaders may need to alter trips accordingly\nNote: Thi
 s trip cannot take any more participants\, unless you have a car.\nHello p
 eople of UNSWOC!\n\nKeen for a chill Saturday trip? Keen to go swimming? K
 een to see not one\, but two beautiful waterfalls? Then this is the trip f
 or you!\n\nHammy and I (Callum) will be running this beginner hike to Vict
 oria Falls. The hike down to the falls is just a short 2km\, and we'll hav
 e the opportunity to take short side trails to see Silver Cascades (our se
 cond waterfall of the trip) and the top of Victoria Falls if we're keen. G
 iven how short the hike is\, the bulk of the trip will be spent at the fal
 ls where we'll swim and have lunch. Then we'll hike the 2km back up to the
  carpark and return to camp. Do note that the hike is entirely downhill on
  the way in and entirely uphill on the way out with about 400m of elevatio
 n. Check out the track notes here.\n\nAlso - Hammy is our wonderful chef f
 or the Saturday evening meal so we'll be aiming to be back at camp fairly 
 early to start cooking. We may ask you all to help us out with the prep so
  be prepared for that if you join this trip :)\n\n&nbsp\;\n\nWhat to bring
 :\n\n 	Sturdy shoes\n 	Swimmers\n 	Small-medium sized backpack to hold you
 r belongings\n 	At least 2L of water **super important to have enough wate
 r!!**\n 	Lunch and snacks for the day\n 	Sun protection: sunscreen + hat\n
  	Any personal medication you may need\n\n&nbsp\;\n\nIf you're keen\, plea
 se tell us your hiking experience so far\, the best place you've ever swam
  (just so we know you’ve read all this information) and whether you have
  a car in your comment below. If you have any questions feel free to reach
  out to me or Hammy on facebook or email me at events@unswoc.org (bc faceb
 ook messages sometimes don't work for me).
CATEGORIES:Boree Log,Bushwalking,Hectic Hiking
LOCATION:https://maps.app.goo.gl/U1zLhG29dHKw5Rr37
END:VEVENT
BEGIN:VTIMEZONE
TZID:Australia/Sydney
X-LIC-LOCATION:Australia/Sydney
BEGIN:DAYLIGHT
DTSTART:20251005T030000
TZOFFSETFROM:+1000
TZOFFSETTO:+1100
TZNAME:AEDT
END:DAYLIGHT
END:VTIMEZONE
END:VCALENDAR