BEGIN:VCALENDAR
VERSION:2.0
PRODID:-//wp-events-plugin.com//7.2.3.1//EN
TZID:Australia/Sydney
X-WR-TIMEZONE:Australia/Sydney
BEGIN:VEVENT
UID:3399@unswoc.org
DTSTART;TZID=Australia/Sydney;VALUE=DATE:20240317
DTEND;TZID=Australia/Sydney;VALUE=DATE:20240318
DTSTAMP:20240307T040901Z
URL:https://unswoc.org/wordpress/events/saturday-bl-upper-shipley-sport-cl
 imbing/
SUMMARY:[FULL] SUNDAY BL - UPPER SHIPLEY Sport Climbing
DESCRIPTION:&nbsp\;\n\nHey Everyone!\n\nAmelia and I (Gabriel) will lead be
  leading a sport climbing trip on Sunday to Upper Shipley with our super s
 trong TLIT Hamza. This area is very beginner friendly so anyone is welcome
 . We will set up some top ropes and there will also be opportunities to le
 arn to lead/clean routes if anyone is interested.\n\nWe’ll meet at the B
 oree Log campground Sunday morning and head down together to Blackheath. C
 heck out the crag here: https://www.thecrag.com/en/climbing/australia/blue
 -mountains/shipley-upper\n\n&nbsp\;\n\n\nGabriel on Pallets of Pies at Upp
 er Shipley\nGear:\n\n 	Harness\n 	Helmet\n 	Climbing shoes\n 	ATC + Carabi
 ner\n\nIf you have your own gear\, please bring it!\n\nWhat to bring:\n\n 
 	Sunscreen\n 	2L water (minimum!)\n 	Food for the day\n 	Sporty clothes\n 
 	Jacket (just in case you get cold)\n 	Day backpack to fit all your stuff\
 n\n&nbsp\;\n\nYou need to be approved for the main Boree Log event to atte
 nd these trips. Please sign up for only ONE trip per day. If you get rejec
 ted you can then sign up for another trip\, this just makes it easier for 
 volunteer trip leaders. Please be aware that as the weather is unpredictab
 le\, trip leaders may need to alter trips accordingly\n\nPlease include in
  the comments: your climbing experience\, whether you have a car\, if you 
 are keen to learn how to lead climb\, and if you add one feature to any an
 imal\, what would it be and why?\n\n(Thank you Maddi for the template)
CATEGORIES:Boree Log,Climbing
LOCATION:https://maps.app.goo.gl/aYgKNGSJkf1VXbRj6
END:VEVENT
BEGIN:VTIMEZONE
TZID:Australia/Sydney
X-LIC-LOCATION:Australia/Sydney
BEGIN:DAYLIGHT
DTSTART:20231001T030000
TZOFFSETFROM:+1000
TZOFFSETTO:+1100
TZNAME:AEDT
END:DAYLIGHT
END:VTIMEZONE
END:VCALENDAR