BEGIN:VCALENDAR
VERSION:2.0
PRODID:-//wp-events-plugin.com//7.2.3.1//EN
TZID:Australia/Sydney
X-WR-TIMEZONE:Australia/Sydney
BEGIN:VEVENT
UID:3393@unswoc.org
DTSTART;TZID=Australia/Sydney;VALUE=DATE:20240316
DTEND;TZID=Australia/Sydney;VALUE=DATE:20240317
DTSTAMP:20240308T000749Z
URL:https://unswoc.org/wordpress/events/saturday-bl-upper-shipley-beginner
 -sport-climbing/
SUMMARY:[FULL] SATURDAY BL - UPPER SHIPLEY Beginner Sport Climbing
DESCRIPTION:Hey everyone!\n\nJayden and I (Amelia K) will be leading a begi
 nner friendly Sport climbing (and top roping) trip to Upper Shipley\, in t
 he Blue Mountains (Upper Shipley Crag). You can check out the Crag page he
 re. There will be something for everyone\, regardless of whether you're ju
 st getting into climbing and have never climbed outdoors before or you're 
 experienced and keen for another fun day.\n\nWe will happily set up routes
  for anyone new to the sport and looking to top rope some climbs\, or teac
 h any other skills people are interested in\, such as learning to lead.\n\
 nWe plan to leave early on Saturday morning from Mt Wilson campground (whe
 re we will be camped)\, and return earlier than other trips as we will be 
 helping with cooking for our communal dinner on Saturday night.\n\n[captio
 n id="attachment_16313" align="alignnone" width="225"] Jayden bringing sto
 ke at Dam Cliffs[/caption]\n\n&nbsp\;\n\nWe can provide all technical clim
 bing gear (if you don't have your own)\, such as harness\, helmet\, climbi
 ng shoes and belay device (eg ATC).\n\nWhat YOU need to bring:\n\n 	At lea
 st 2L water\n 	Food + snacks for the day\n 	Sunscreen\n 	Jumper/jacket (Bl
 ue mountains can get very cold)\n 	Comfy shoes\, hat\, backpack etc for sh
 ort hike in\n 	Chalk (optional)\n\n&nbsp\;\n\nPlease note: You need to be 
 approved for the main Boree Log event to attend these trips. Please sign u
 p for only ONE trip per day. If you get rejected you can then sign up for 
 another trip\, this just makes it easier for volunteer trip leaders.\n\nPl
 ease be aware that as the weather is unpredictable\, we may need to alter 
 the trip accordingly.\n\n&nbsp\;\n\nIf you're keen to sign up\, please inc
 lude in your comment your experience\, what you want out of the day\, whet
 her you have a car and how many seats\, and name your go to hiking/adventu
 re snack :) (just so we know you've read all this info before signing up).
 \n\nFeel free to message Jayden or I if you have any questions.\n\n&nbsp\;
 \n\nMany thanks\,\n\nAmelia K\n\n&nbsp\;
CATEGORIES:Outdoor Climbing
LOCATION:https://www.google.com/maps/place/Upper+Shipley+Crag/@-33.6385954,
 150.2720807,16.86z/data=!4m6!3m5!1s0x6b1273dfaa878cd9:0x39ce51f7169ef04c!8
 m2!3d-33.6389271!4d150.2753463!16s%2Fg%2F11gwk_zc4y?entry=ttu
END:VEVENT
BEGIN:VTIMEZONE
TZID:Australia/Sydney
X-LIC-LOCATION:Australia/Sydney
BEGIN:DAYLIGHT
DTSTART:20231001T030000
TZOFFSETFROM:+1000
TZOFFSETTO:+1100
TZNAME:AEDT
END:DAYLIGHT
END:VTIMEZONE
END:VCALENDAR