BEGIN:VCALENDAR
VERSION:2.0
PRODID:-//wp-events-plugin.com//7.2.3.1//EN
TZID:Australia/Sydney
X-WR-TIMEZONE:Australia/Sydney
BEGIN:VEVENT
UID:3670@unswoc.org
DTSTART;TZID=Australia/Sydney;VALUE=DATE:20251018
DTEND;TZID=Australia/Sydney;VALUE=DATE:20251019
DTSTAMP:20251013T023211Z
URL:https://unswoc.org/wordpress/events/saturday-bl-upper-shipley-beginner
 -sport-climbing-3/
SUMMARY:[FULL] SATURDAY BL - UPPER SHIPLEY Beginner Sport Climbing
DESCRIPTION:**Beginner Sport Climbing Trip Saturday Boree LOG**\n\nMyslef (
 Gabriel)\, Hamish and Praja (TLIT) will be running will be running an Begi
 nner sport climbing trip to Upper Shipley\, Blackheath.\n\nThis trip is ai
 med for Beginners\, but ideally if you have climbed atleast once indoors d
 oing top rope. The aim of the day is to develope your climbing skills\, at
  whatever level your at.\n\nRemember to answer the hidden question in your
  comment!\n\nNote:\n\n“You need to be approved for the main Boree Log ev
 ent to attend these trips. Please sign up for only ONE trip per day. If yo
 u get rejected you can then sign up for another trip\, this just makes it 
 easier for volunteer trip leaders. Please be aware that as the weather is 
 unpredictable\, trip leaders may need to alter trips accordingly”\n\n&nb
 sp\;\n\nDetails for the trip\n\n 	Location\n\n 	Upper Shipley - Walls Ledg
 e Track\, Blackheath NSW 2785\n\n\n 	Time\n\n 	TBC (after group packup and
  campsite is clean)\n\n\n 	Wet Weather Plan\n\n 	TBC\n\n\n 	Difficultuy\n\
 n 	There are climbs starting at 13 and going all the way to very hard\, wi
 th most climbs from 18-21.\n\n\n\n&nbsp\;\n\nWhat to bring / What you need
  - (****) means must have!\n\n 	Harness ***\n 	Atc + locking beiner (or Gr
 i Gri and Lo. beiner) ****\n 	Helmet ****\n 	Sling + locking beiner (perso
 nal saftey) ****\n 	Prusic (optional but recomended)\n 	Climbing shoes (CO
 MFORTABLE)\n 	Atleast 2L of water ****\n 	A backpack (with lunch\, snacks 
 and personal items) ****\n 	Appropriate Clothing (MUST BRING A HAT\, the c
 rag can be very sunny) *****\n 	YOUR HAPPY FACE\, AND BRAVE MINDSET!\n\nTh
 is group gear can be organised on the day\, but if you have personal gear\
 , (eg rope\, quickdrawers etc..) it is highly encoraged that you use that\
 , as gear can be scarse on the day.\n\n&nbsp\;\n\nImportant information!\n
 \nIn the comments below\, please let me know your climbing experience\, (I
  wont judge I prommise)\, if youll have a car\, how many spaces it has\, a
 nd what your opinoin is on 'bare foot climbing' is.\n\nSuper keen to see y
 ou all there! Bring your best "send" attatude!\n\n-Gabriel\, Hamish and Pr
 aja\n\np.p.s please ignore the spelling errors.
CATEGORIES:Boree Log,Outdoor Climbing
LOCATION:https://www.google.com/maps/place/Upper+Shipley+Crag/@-33.6389271,
 150.2753463,690m/data=!3m2!1e3!4b1!4m6!3m5!1s0x6b1273dfaa878cd9:0x39ce51f7
 169ef04c!8m2!3d-33.6389271!4d150.2753463!16s%2Fg%2F11gwk_zc4y?entry=ttu&g_
 ep=EgoyMDI1MDIyNC4wIKXMDSoJLDEwMjExNDUzSAFQAw%3D%3D
END:VEVENT
BEGIN:VTIMEZONE
TZID:Australia/Sydney
X-LIC-LOCATION:Australia/Sydney
BEGIN:DAYLIGHT
DTSTART:20251005T030000
TZOFFSETFROM:+1000
TZOFFSETTO:+1100
TZNAME:AEDT
END:DAYLIGHT
END:VTIMEZONE
END:VCALENDAR