BEGIN:VCALENDAR
VERSION:2.0
PRODID:-//wp-events-plugin.com//7.2.3.1//EN
TZID:Australia/Sydney
X-WR-TIMEZONE:Australia/Sydney
BEGIN:VEVENT
UID:3234@unswoc.org
DTSTART;TZID=Australia/Sydney;VALUE=DATE:20230318
DTEND;TZID=Australia/Sydney;VALUE=DATE:20230319
DTSTAMP:20230313T000755Z
URL:https://unswoc.org/wordpress/events/saturday-bl-trad-climbing-at-mt-bo
 yce/
SUMMARY:[FULL] SATURDAY BL - Trad Climbing at Mt Boyce
DESCRIPTION:Hey folks\,\n\nMargot and I (Pat) will be leading a trad climbi
 ng trip to Mt Boyce on Saturday of Boree Log. We'll be climbing around Fir
 ebug Wall and Walk-Down Gully\, which have some good easy trad routes to l
 earn on: www.thecrag.com/en/climbing/australia/blue-mountains/mt-boyce.\n\
 n\n\nThis trip is beginner friendly\, though if you have lead climbing and
  lead belaying experience you'll get more out of it. We'll be happy to tea
 ch skills like placing trad gear\, setting anchors\, cleaning anchors\, cr
 ack climbing\, and probably anything else that comes to mind.\n\nYou'll ne
 ed:\n\n 	Harness *\n 	Helmet *\n 	ATC + locking carabiner *\n 	Climbing sh
 oes *\n 	Food (lunch + snacks) and at least 2L water\n 	Backpack\n 	Suitab
 le shoes for hiking in\n 	Sunscreen\n\n* These items can be borrowed from 
 the gear trailer in the morning\, but if you have your own please bring th
 em!!\n\nYou must be approved to the main Boree Log event to attend these t
 rips. If you get rejected then you can sign up for another trip\, this jus
 t makes it easier for volunteer trip leaders. Please be aware that as the 
 weather is unpredictable\, trip leaders may need to alter trips accordingl
 y.\n\nIf you're keen to come along\, sign up and leave a comment telling u
 s your climbing experience\, whether you have a car (and how many spare se
 ats)\, and any skills you'd like to learn on the trip. If you've got any q
 uestions feel free to message Margot or myself!\n\nGet keen!
CATEGORIES:Outdoor Climbing
END:VEVENT
BEGIN:VTIMEZONE
TZID:Australia/Sydney
X-LIC-LOCATION:Australia/Sydney
BEGIN:DAYLIGHT
DTSTART:20221002T030000
TZOFFSETFROM:+1000
TZOFFSETTO:+1100
TZNAME:AEDT
END:DAYLIGHT
END:VTIMEZONE
END:VCALENDAR