BEGIN:VCALENDAR
VERSION:2.0
PRODID:-//wp-events-plugin.com//7.2.3.1//EN
TZID:Australia/Sydney
X-WR-TIMEZONE:Australia/Sydney
BEGIN:VEVENT
UID:3558@unswoc.org
DTSTART;TZID=Australia/Sydney;VALUE=DATE:20250322
DTEND;TZID=Australia/Sydney;VALUE=DATE:20250323
DTSTAMP:20250320T020407Z
URL:https://unswoc.org/wordpress/events/saturday-bl-tiger-snake-dry-canyon
 /
SUMMARY:[FULL] SATURDAY BL - TIGER SNAKE Canyon [Beginners - Dry]
DESCRIPTION:Yo team\,\n\nAmelia and I (Oliver) are leading a trip on Saturd
 ay through Tiger Snake Canyon!\n\n&nbsp\;\n\nYou need to be approved for t
 he main Boree Log event to attend these trips. Please sign up for only ONE
  trip per day. If you get rejected you can then sign up for another trip\,
  this just makes it easier for volunteer trip leaders. Please be aware tha
 t as the weather is unpredictable\, trip leaders may need to alter trips a
 ccordingly.\n\n&nbsp\;\n\nTiger Snake Canyon is a narrow\, twisting tribut
 ary on the Newnes Plateau. It features two constrictions and a couple of a
 bseils. The lower is deep\, dark and spectacular.\n\n\n\nMore info and pic
 s can be found here: ozultimate.com/…ack_notes/tiger_snake.htm\n\nThis 
 is a dry canyon so don’t expect to get too wet\, but expect at least wet
  feet/legs. It will still be chilly however so bring warm clothes. e.g. Th
 ermals beneath your clothes with a rain jacket on top.\n\nWhat to Expect:\
 n\n 	10kms of bush bashing and lots of walking up and down\n 	Abseiling an
 d heights!\n 	Beautiful slot canyons\n 	Hopefully no tiger snakes!\n 	Knee
  deep wading\n\n&nbsp\;\n\nPlease fill out the form when you sign up and 
 comment with your experience and your favourite piece of outdoors gear.\n
 If you haven't already added a method of contacting you to the website ple
 ase update your profile.\n\n&nbsp\;\n\nPlease make you sure bring ALL requ
 ired gear. Some gear is available to borrow from camp but it is limited - 
 if you have any of your own please bring it!\n\nGear available to borrow f
 rom the club:\n\n 	Harness\n 	Helmet\n 	3x locking carabiners\n 	1x Figure
  8 / Descender\n 	1x Safety sling\n 	Drybag (likely to be none available 
 if you have one use your own but really not that critical)\n\nOther gear 
 you MUST bring:\n\n 	Backpack that can fit ALL your gear and that can get
  wet (30L+)\n 	Clothing:\n\n 	Enclosed shoes with good grip\, suitable fo
 r water and bushwalking\n 	Wool socks\n 	Thermals and raincoat\n 	NO COTT
 ON! (this includes socks\, shirts\, pants\, undies\, etc)\n\n\n 	Food:\n\
 n 	2L of water (minimum)\n 	Lunch\n 	Snacks to share (with me)\n\n\n 	Othe
 r:\n\n 	Medication (asthma puffer\, Epipen etc)\n 	Headtorch + spare batt
 eries\n 	Emergency blanket – (can buy from Gear Cupboard for $5 or from 
 chemists\, shops\, etc)\n\n\n\n&nbsp\;\n\nGet keen and see ya there!\n\nPo
 st Cred to Zee =)
CATEGORIES:Boree Log,Canyoning
LOCATION:https://maps.app.goo.gl/mcswP5YskFKgihQT7
END:VEVENT
BEGIN:VTIMEZONE
TZID:Australia/Sydney
X-LIC-LOCATION:Australia/Sydney
BEGIN:DAYLIGHT
DTSTART:20241006T030000
TZOFFSETFROM:+1000
TZOFFSETTO:+1100
TZNAME:AEDT
END:DAYLIGHT
END:VTIMEZONE
END:VCALENDAR