BEGIN:VCALENDAR
VERSION:2.0
PRODID:-//wp-events-plugin.com//7.2.3.1//EN
TZID:Australia/Sydney
X-WR-TIMEZONE:Australia/Sydney
BEGIN:VEVENT
UID:3347@unswoc.org
DTSTART;TZID=Australia/Sydney;VALUE=DATE:20231014
DTEND;TZID=Australia/Sydney;VALUE=DATE:20231015
DTSTAMP:20231009T215724Z
URL:https://unswoc.org/wordpress/events/saturday-bl-thomsponss-point-sport
 -climbing/
SUMMARY:[FULL] SATURDAY BL – THOMSPONS'S POINT Sport Climbing
DESCRIPTION:You need to be approved for the main Boree Log event to attend 
 these trips. If you get rejected then you can sign up for another trip\, t
 his just makes it easier for volunteer trip leaders. Please be aware that 
 as the weather is unpredictable\, trip leaders may need to alter trips acc
 ordingly.\n\n&nbsp\;\n\nPlease read the entire post and answer all questio
 ns before signing up.\n\n&nbsp\;\n\nHey folks\, Emily and I will be leadin
 g a beginner friendly sport climbing trip on the Saturday of Boree Log. We
 ’ll be heading to Thompson’s Point\; a popular crag in Nowra. It’s a
  great place for all skill and experience levels as there are a huge varie
 ty of grades and styles. We will be setting up top ropes for most the clim
 bs so no experience is required\, only enthusiasm to touch rocks! This wil
 l be an all day adventure\, so that means we will depart early in the morn
 ing\, and will return back to the campsite in the evening.\n\n&nbsp\;\n\n[
 caption id="attachment_15742" align="alignnone" width="325"] Jenny crushin
 g a stellar 3 star route here recently![/caption]\n\n&nbsp\;\n\nIf you’r
 e interested in joining this trip\, please sign up below and let us about:
 \n\n 	Your experience level with climbing and the outdoors\n 	Whether you 
 have a car since we will be coordinating transport to and from the campsit
 e at Boree Log on Saturday and if so\, how many spots you have\n 	How many
  toddlers you think you could fight to the death in a Grecian-style arena\
 n 	If you’ve done an early vote or postal vote for the Referendum (only
  applicable to Australian Citizens)\n\n&nbsp\;\n\nWe’ll meet near the tr
 ailer at the campground🏕️ on Saturday morning to collect gear and do 
 a roll call.\n\nMost gear is provided including a harness\, helmet\, safet
 y sling\, locking carabiners\, belay device but you’ll need to bring:\n\
 n 	Sunscreen\n 	2L water (stay hydrated!)\n 	Food\, snacks to share 😋\n
  	Comfy clothes and shoes\n 	Warm jacket 🧥\n 	Medication if required 
 💊\n 	Climbing shoes\, chalk bag 🧗\n\n&nbsp\;\n\nPlease let Emily or 
 myself know in advance if you are missing any of the personal gear as ment
 ioned above. Looking forward to meeting you all 
CATEGORIES:Climbing,Outdoor Climbing
LOCATION:https://www.google.com/maps/place/Thompsons+Point+Climbing/@-34.86
 955,150.5719829,15.39z/data=!4m6!3m5!1s0x6b147fe4416c7901:0xc7280d89716ff6
 4a!8m2!3d-34.8703012!4d150.5744991!16s%2Fg%2F11bccjvkjd?entry=ttu
END:VEVENT
BEGIN:VTIMEZONE
TZID:Australia/Sydney
X-LIC-LOCATION:Australia/Sydney
BEGIN:DAYLIGHT
DTSTART:20231001T030000
TZOFFSETFROM:+1000
TZOFFSETTO:+1100
TZNAME:AEDT
END:DAYLIGHT
END:VTIMEZONE
END:VCALENDAR