BEGIN:VCALENDAR
VERSION:2.0
PRODID:-//wp-events-plugin.com//7.2.3.1//EN
TZID:Australia/Sydney
X-WR-TIMEZONE:Australia/Sydney
BEGIN:VEVENT
UID:2563@unswoc.org
DTSTART;TZID=Australia/Sydney;VALUE=DATE:20191026
DTEND;TZID=Australia/Sydney;VALUE=DATE:20191027
DTSTAMP:20191017T221124Z
URL:https://unswoc.org/wordpress/events/saturday-bl-surprise-adventure-and
 -cooking/
SUMMARY:Saturday BL - Mystery Adventure and Cooking
DESCRIPTION:You must be attending and approved for the Boree Log main event
  to sign up for this trip.\n\n\nWhat better way to spend the Saturday of B
 oree Log by avoiding the morning chaos\, going on an adventure and then co
 oking for the masses! This is the perfect trip if you're looking to have a
  chill day in a beautiful setting with excellent company\, or if you can't
  make it to Boree Log in time on Saturday morning.\n\n\n\nYou will need:\n
 \n 	Shoes/clothing for an adventure and remember warm cloths for the eveni
 ng\, it can get quite chilly.\n 	Lunch: we'll try share food and have a pi
 cnic lunch somewhere nice by the river\n 	Swimmers\, if you'd like to tak
 e a dip in the water\n 	Sunscreen\n 	Medicines if you need them (asthma pu
 ffer\, etc).\n 	Good cooking/chopping skills depending on the recipe chose
 n\, not essential but could be handy.\n 	Entertainment\, if you've got an
 y good games\, a Frisbee\, inflatable raft\, slackline etc bring it along!
 \n\nIf you have any questions message me (Jenny Stansby) on Facebook. Writ
 e down YOUR Travel plans (e.g. getting a lift on Friday night/driving on S
 aturday morning\, can give lifts/looking for a lift on Saturday) in the co
 mments\, what entertainment you can bring\, any allergies and whether you 
 have A CAR (and the model). \n\n\n\n\n&nbsp\;\n\n\n\n\n&nbsp\;\n\n&nbsp\;
 \n\n&nbsp\;
END:VEVENT
BEGIN:VTIMEZONE
TZID:Australia/Sydney
X-LIC-LOCATION:Australia/Sydney
BEGIN:DAYLIGHT
DTSTART:20191006T030000
TZOFFSETFROM:+1000
TZOFFSETTO:+1100
TZNAME:AEDT
END:DAYLIGHT
END:VTIMEZONE
END:VCALENDAR