BEGIN:VCALENDAR
VERSION:2.0
PRODID:-//wp-events-plugin.com//7.2.3.1//EN
TZID:Australia/Sydney
X-WR-TIMEZONE:Australia/Sydney
BEGIN:VEVENT
UID:3548@unswoc.org
DTSTART;TZID=Australia/Sydney;VALUE=DATE:20250322
DTEND;TZID=Australia/Sydney;VALUE=DATE:20250323
DTSTAMP:20250320T020606Z
URL:https://unswoc.org/wordpress/events/saturday-bl-soft-parade-sport-clim
 bing/
SUMMARY:SATURDAY BL - SOFT PARADE Beginner Sport Climbing
DESCRIPTION:Hey UNSWOC crew! Peta and I (Hammy) are leading a super beginne
 r-friendly climbing trip to Soft Parade Crag on Saturday\, 22nd March\, as
  part of the Boree Log trip! Whether you’re brand new to outdoor climbin
 g or just looking for a chill day out on the rock\, this is the perfect tr
 ip for you. We’ll be tackling some easy climbs\, learning the basics\, a
 nd most importantly\, having a lot of fun!\n**You need to be approved for 
 the main Boree Log event to attend these trips. Please sign up for only ON
 E trip per day. If you get rejected you can then sign up for another trip\
 , this just makes it easier for volunteer trip leaders. Please be aware th
 at as the weather is unpredictable\, trip leaders may need to alter trips 
 accordingly**\nWhat’s the Plan?\nWe’ll meet up at the Boree Log campsi
 te in the morning\, sort out gear\, and carpool from the campsite to Soft 
 Parade Crag. It’s a fantastic spot for first-time climbers\, and the goa
 l is to get comfortable on the rock\, build confidence\, and have a blast!
  Expect plenty of encouragement\, great company\, and maybe even some post
 -climb snacks to celebrate your first sends.\n\nWhat to Bring\n\n 	Water 
 – At least 2L (Critical!)\n 	Food – Lunch &amp\; snacks (Critical!)\n 
 	Sunscreen &amp\; sun-appropriate clothing (HAT!)\n 	Weather-appropriate g
 ear (It may be cold—bring layers)\n\nClimbing Gear\n🚨 All climbing ge
 ar will be provided at the Boree Log campsite. Do NOT go to the gear cupbo
 ard to rent climbing gear for this weekend. 🚨\nWe’ll have:\n\n\n 	Cli
 mbing shoes (limited sizes available)\n 	Helmet\n 	Harness\n 	Belay device
  &amp\; locking carabiner\n\nGet Keen!\nThis is the perfect chance to try 
 outdoor climbing in a supportive and fun environment. If you’re keen\, c
 omment below with your experience level (even if it’s zero!) and drop a 
 link to your Facebook profile so we can add you to the trip chat. Hidden i
 n this message: If you had to cook dinner for everyone at Boree Log\, what
  would you make? 😉 Those who answer are more likely to be added to the 
 trip!\nOnce you’re approved\, we’ll make a Facebook Messenger chat to 
 sort out carpooling from the campsite to the crag\, gear\, and final detai
 ls. 🚗🧗‍♀️
CATEGORIES:Boree Log,Climbing
LOCATION:https://maps.app.goo.gl/gYWDeE1ymC1zVMso7
END:VEVENT
BEGIN:VTIMEZONE
TZID:Australia/Sydney
X-LIC-LOCATION:Australia/Sydney
BEGIN:DAYLIGHT
DTSTART:20241006T030000
TZOFFSETFROM:+1000
TZOFFSETTO:+1100
TZNAME:AEDT
END:DAYLIGHT
END:VTIMEZONE
END:VCALENDAR