BEGIN:VCALENDAR
VERSION:2.0
PRODID:-//wp-events-plugin.com//7.2.3.1//EN
TZID:Australia/Sydney
X-WR-TIMEZONE:Australia/Sydney
BEGIN:VEVENT
UID:3481@unswoc.org
DTSTART;TZID=Australia/Sydney;VALUE=DATE:20241012
DTEND;TZID=Australia/Sydney;VALUE=DATE:20241013
DTSTAMP:20241003T052554Z
URL:https://unswoc.org/wordpress/events/saturday-bl-shipley-upper-sport-cl
 imbing/
SUMMARY:[FULL] SATURDAY BL - SHIPLEY UPPER Sport Climbing
DESCRIPTION:Hey everyone\,\n\nCome join the Amelias (Amelia V and Amelia K)
  on a beginner friendly sport climbing trip to Upper Shipley - you can che
 ck out the Crag page here to see the climbs on offer!\n\nWe will happily t
 each any skills you are looking to learn\, whether this is your first time
  climbing outdoors or you want to learn some specific skills such as lead 
 climbing or belaying. We will happily set up routes for anyone new to the 
 sport and looking to top rope some climbs as well.\n\nWhat you need to bri
 ng:\n\n 	2L water\n 	Food/snacks for the day\n 	Sunscreen/hat\n 	Warm clot
 hes!\n 	Chalk (optional)\n 	Bag to fit everything\, including some of the 
 shared gear we will bring\n\nBring the following items if you have them\, 
 if not we can provide...\n\n 	Harness\n 	Helmet\n 	Belay device (eg ATC)\n
  	Locking carabiner\n 	Climbing shoes\n\nYou need to be approved for the m
 ain Boree Log event to attend these trips. Please sign up for only ONE tri
 p per day. If you get rejected you can then sign up for another trip\, thi
 s just makes it easier for volunteer trip leaders. Please be aware that as
  the weather is unpredictable\, trip leaders may need to alter trips accor
 dingly.\n\nIf you're keen to sign up\, please include in your comment your
  climbing experience so far\, whether you have a car and how many seats\, 
 and name an animal you would be most excited to see while climbing (just s
 o we know you've read all this info before signing up).\n\nFeel free to me
 ssage Amelia or I if you have any questions :)\n\n&nbsp\;\n\nGet keen!\n\n
 Amelia
CATEGORIES:Outdoor Climbing
LOCATION:https://www.google.com/maps/place/Upper+Shipley+Crag/@-33.6389226,
 150.2727714,726m/data=!3m2!1e3!4b1!4m6!3m5!1s0x6b1273dfaa878cd9:0x39ce51f7
 169ef04c!8m2!3d-33.6389271!4d150.2753463!16s%2Fg%2F11gwk_zc4y?entry=ttu&g_
 ep=EgoyMDI0MDkxOC4xIKXMDSoASAFQAw%3D%3D
END:VEVENT
BEGIN:VTIMEZONE
TZID:Australia/Sydney
X-LIC-LOCATION:Australia/Sydney
BEGIN:DAYLIGHT
DTSTART:20241006T030000
TZOFFSETFROM:+1000
TZOFFSETTO:+1100
TZNAME:AEDT
END:DAYLIGHT
END:VTIMEZONE
END:VCALENDAR